BEGIN:VCALENDAR
VERSION:2.0
PRODID:-//achurchnearyou.com//eventfeed//EN
CALSCALE:GREGORIAN
METHOD:PUBLISH
X-WR-TIMEZONE:UTC
BEGIN:VEVENT
SUMMARY:Choral Evensong
DTSTART;TZID=Europe/London:20260517T170000
DTEND;TZID=Europe/London:20260517T180000
DTSTAMP:20260422T135903Z
UID:9313552026-05-17 17:00:00+01:00achurchnearyou
CATEGORIES:
DESCRIPTION:Lasting about 40 minutes\, Evensong draws its roots from the C
 hurch of England's Book of Common Prayer. Most of this service is sung by 
 the choir. After Evensong you are invited to join us for drinks and supper
  which is then followed by a stimulating talk by a guest speaker
GEO:-0.08332;51.58877
LOCATION:St Philip the Apostle\, South Tottenham
URL:https://www.achurchnearyou.com/church/15649/service-and-events/events/
 931355/
END:VEVENT
BEGIN:VEVENT
SUMMARY:Choral Evensong
DTSTART;TZID=Europe/London:20260621T170000
DTEND;TZID=Europe/London:20260621T180000
DTSTAMP:20260422T135903Z
UID:9313552026-06-21 17:00:00+01:00achurchnearyou
CATEGORIES:
DESCRIPTION:Lasting about 40 minutes\, Evensong draws its roots from the C
 hurch of England's Book of Common Prayer. Most of this service is sung by 
 the choir. After Evensong you are invited to join us for drinks and supper
  which is then followed by a stimulating talk by a guest speaker
GEO:-0.08332;51.58877
LOCATION:St Philip the Apostle\, South Tottenham
URL:https://www.achurchnearyou.com/church/15649/service-and-events/events/
 931355/
END:VEVENT
BEGIN:VEVENT
SUMMARY:Choral Evensong
DTSTART;TZID=Europe/London:20260719T170000
DTEND;TZID=Europe/London:20260719T180000
DTSTAMP:20260422T135903Z
UID:9313552026-07-19 17:00:00+01:00achurchnearyou
CATEGORIES:
DESCRIPTION:Lasting about 40 minutes\, Evensong draws its roots from the C
 hurch of England's Book of Common Prayer. Most of this service is sung by 
 the choir. After Evensong you are invited to join us for drinks and supper
  which is then followed by a stimulating talk by a guest speaker
GEO:-0.08332;51.58877
LOCATION:St Philip the Apostle\, South Tottenham
URL:https://www.achurchnearyou.com/church/15649/service-and-events/events/
 931355/
END:VEVENT
BEGIN:VEVENT
SUMMARY:Choral Evensong
DTSTART;TZID=Europe/London:20260920T170000
DTEND;TZID=Europe/London:20260920T180000
DTSTAMP:20260422T135903Z
UID:9313552026-09-20 17:00:00+01:00achurchnearyou
CATEGORIES:
DESCRIPTION:Lasting about 40 minutes\, Evensong draws its roots from the C
 hurch of England's Book of Common Prayer. Most of this service is sung by 
 the choir. After Evensong you are invited to join us for drinks and supper
  which is then followed by a stimulating talk by a guest speaker
GEO:-0.08332;51.58877
LOCATION:St Philip the Apostle\, South Tottenham
URL:https://www.achurchnearyou.com/church/15649/service-and-events/events/
 931355/
END:VEVENT
BEGIN:VEVENT
SUMMARY:Choral Evensong
DTSTART;TZID=Europe/London:20261018T170000
DTEND;TZID=Europe/London:20261018T180000
DTSTAMP:20260422T135903Z
UID:9313552026-10-18 17:00:00+01:00achurchnearyou
CATEGORIES:
DESCRIPTION:Lasting about 40 minutes\, Evensong draws its roots from the C
 hurch of England's Book of Common Prayer. Most of this service is sung by 
 the choir. After Evensong you are invited to join us for drinks and supper
  which is then followed by a stimulating talk by a guest speaker
GEO:-0.08332;51.58877
LOCATION:St Philip the Apostle\, South Tottenham
URL:https://www.achurchnearyou.com/church/15649/service-and-events/events/
 931355/
END:VEVENT
BEGIN:VEVENT
SUMMARY:Choral Evensong
DTSTART;TZID=Europe/London:20261115T170000
DTEND;TZID=Europe/London:20261115T180000
DTSTAMP:20260422T135903Z
UID:9313552026-11-15 17:00:00+00:00achurchnearyou
CATEGORIES:
DESCRIPTION:Lasting about 40 minutes\, Evensong draws its roots from the C
 hurch of England's Book of Common Prayer. Most of this service is sung by 
 the choir. After Evensong you are invited to join us for drinks and supper
  which is then followed by a stimulating talk by a guest speaker
GEO:-0.08332;51.58877
LOCATION:St Philip the Apostle\, South Tottenham
URL:https://www.achurchnearyou.com/church/15649/service-and-events/events/
 931355/
END:VEVENT
BEGIN:VEVENT
SUMMARY:Choral Evensong
DTSTART;TZID=Europe/London:20270117T170000
DTEND;TZID=Europe/London:20270117T180000
DTSTAMP:20260422T135903Z
UID:9313552027-01-17 17:00:00+00:00achurchnearyou
CATEGORIES:
DESCRIPTION:Lasting about 40 minutes\, Evensong draws its roots from the C
 hurch of England's Book of Common Prayer. Most of this service is sung by 
 the choir. After Evensong you are invited to join us for drinks and supper
  which is then followed by a stimulating talk by a guest speaker
GEO:-0.08332;51.58877
LOCATION:St Philip the Apostle\, South Tottenham
URL:https://www.achurchnearyou.com/church/15649/service-and-events/events/
 931355/
END:VEVENT
BEGIN:VEVENT
SUMMARY:Choral Evensong
DTSTART;TZID=Europe/London:20270221T170000
DTEND;TZID=Europe/London:20270221T180000
DTSTAMP:20260422T135903Z
UID:9313552027-02-21 17:00:00+00:00achurchnearyou
CATEGORIES:
DESCRIPTION:Lasting about 40 minutes\, Evensong draws its roots from the C
 hurch of England's Book of Common Prayer. Most of this service is sung by 
 the choir. After Evensong you are invited to join us for drinks and supper
  which is then followed by a stimulating talk by a guest speaker
GEO:-0.08332;51.58877
LOCATION:St Philip the Apostle\, South Tottenham
URL:https://www.achurchnearyou.com/church/15649/service-and-events/events/
 931355/
END:VEVENT
BEGIN:VEVENT
SUMMARY:Choral Evensong
DTSTART;TZID=Europe/London:20270321T170000
DTEND;TZID=Europe/London:20270321T180000
DTSTAMP:20260422T135903Z
UID:9313552027-03-21 17:00:00+00:00achurchnearyou
CATEGORIES:
DESCRIPTION:Lasting about 40 minutes\, Evensong draws its roots from the C
 hurch of England's Book of Common Prayer. Most of this service is sung by 
 the choir. After Evensong you are invited to join us for drinks and supper
  which is then followed by a stimulating talk by a guest speaker
GEO:-0.08332;51.58877
LOCATION:St Philip the Apostle\, South Tottenham
URL:https://www.achurchnearyou.com/church/15649/service-and-events/events/
 931355/
END:VEVENT
END:VCALENDAR
