BEGIN:VCALENDAR
VERSION:2.0
PRODID:-//achurchnearyou.com//eventfeed//EN
CALSCALE:GREGORIAN
METHOD:PUBLISH
X-WR-TIMEZONE:UTC
BEGIN:VEVENT
SUMMARY:Summer Fair
DTSTART:20250726T110000Z
DTEND:20250726T170000Z
DTSTAMP:20260424T051648Z
UID:12116662025-07-26 11:00:00+00:00achurchnearyou
CATEGORIES:
DESCRIPTION:St Michael's annual summer fair is an opportunity for both the
  local and wider community\, to come and join us for fun and relaxation.  
 There's something for all the family.  Please see the flyer below in the f
 eature image section.
GEO:-0.278917;51.549301
LOCATION:St Michael the Archangel\, Tokyngton\, Wembley
URL:https://www.achurchnearyou.com/church/15668/service-and-events/events/
 1211666/
END:VEVENT
END:VCALENDAR
