BEGIN:VCALENDAR
VERSION:2.0
PRODID:-//achurchnearyou.com//eventfeed//EN
CALSCALE:GREGORIAN
METHOD:PUBLISH
X-WR-TIMEZONE:UTC
BEGIN:VEVENT
SUMMARY:Canterbury Pilgrimage
DTSTART:20250913T060000Z
DTEND:20250913T183000Z
DTSTAMP:20260424T021549Z
UID:12184672025-09-13 06:00:00+00:00achurchnearyou
CATEGORIES:
DESCRIPTION:This year our Pilgrimage will be to Canterbury Cathedral\, on 
 Saturday 13th September - Canterbury Cathedral is a place where countless 
 pilgrims have walked before us in search of hope\, and a deeper faith.\n\n
 Canterbury Cathedral\, together with St Augustine's Abbey and St Martin's 
 Church\, forms a UNESCO World Heritage Site - a testament to its profound 
 artistic\, historical and spiritual significance.  Today\, the pilgrimage 
 to Canterbury continues to draw people from all walks of life\, each with 
 their own story\, longing and prayer.\n\nYour\, welcome to come and be par
 t of this timeless journey and let your steps find meaning on the road to 
 this sacred place.\n\nFor further information and/or to book a place on th
 e Pilgrimage please email info@stmichaelchurchwembley.co.uk
LOCATION:Canterbury Cathedral
URL:https://www.achurchnearyou.com/church/15668/service-and-events/events/
 1218467/
END:VEVENT
END:VCALENDAR
