BEGIN:VCALENDAR
VERSION:2.0
PRODID:-//achurchnearyou.com//eventfeed//EN
CALSCALE:GREGORIAN
METHOD:PUBLISH
X-WR-TIMEZONE:UTC
BEGIN:VEVENT
SUMMARY:Palm Sunday or Passion Sunday
DTSTART:20250413T090000Z
DTEND:20250413T100000Z
DTSTAMP:20260420T090510Z
UID:11814332025-04-13 09:00:00+00:00achurchnearyou
CATEGORIES:
DESCRIPTION:Join us to mark the beginning of Holy Week.  \nPalm Sunday mar
 ks Jesus’ victorious entry into Jerusalem. He entered riding a donkey an
 d the people welcomed him using palm fronds.
GEO:-0.210741;51.543742
LOCATION:Christ Church Brondesbury
URL:https://www.achurchnearyou.com/church/15671/service-and-events/events/
 1181433/
END:VEVENT
END:VCALENDAR
