BEGIN:VCALENDAR
VERSION:2.0
PRODID:-//achurchnearyou.com//eventfeed//EN
CALSCALE:GREGORIAN
METHOD:PUBLISH
X-WR-TIMEZONE:UTC
BEGIN:VEVENT
SUMMARY:Evening Prayer
DTSTART;TZID=Europe/London:20260427T183000
DTEND;TZID=Europe/London:20260427T184500
DTSTAMP:20260422T144827Z
UID:2567542026-04-27 18:30:00+01:00achurchnearyou
CATEGORIES:
DESCRIPTION:
GEO:-0.249875;51.548992
LOCATION:St Mary Willesden
URL:https://www.achurchnearyou.com/church/15679/service-and-events/events/
 256754/
END:VEVENT
BEGIN:VEVENT
SUMMARY:Evening Prayer
DTSTART;TZID=Europe/London:20260504T183000
DTEND;TZID=Europe/London:20260504T184500
DTSTAMP:20260422T144827Z
UID:2567542026-05-04 18:30:00+01:00achurchnearyou
CATEGORIES:
DESCRIPTION:
GEO:-0.249875;51.548992
LOCATION:St Mary Willesden
URL:https://www.achurchnearyou.com/church/15679/service-and-events/events/
 256754/
END:VEVENT
BEGIN:VEVENT
SUMMARY:Evening Prayer
DTSTART;TZID=Europe/London:20260511T183000
DTEND;TZID=Europe/London:20260511T184500
DTSTAMP:20260422T144827Z
UID:2567542026-05-11 18:30:00+01:00achurchnearyou
CATEGORIES:
DESCRIPTION:
GEO:-0.249875;51.548992
LOCATION:St Mary Willesden
URL:https://www.achurchnearyou.com/church/15679/service-and-events/events/
 256754/
END:VEVENT
BEGIN:VEVENT
SUMMARY:Evening Prayer
DTSTART;TZID=Europe/London:20260518T183000
DTEND;TZID=Europe/London:20260518T184500
DTSTAMP:20260422T144827Z
UID:2567542026-05-18 18:30:00+01:00achurchnearyou
CATEGORIES:
DESCRIPTION:
GEO:-0.249875;51.548992
LOCATION:St Mary Willesden
URL:https://www.achurchnearyou.com/church/15679/service-and-events/events/
 256754/
END:VEVENT
BEGIN:VEVENT
SUMMARY:Evening Prayer
DTSTART;TZID=Europe/London:20260525T183000
DTEND;TZID=Europe/London:20260525T184500
DTSTAMP:20260422T144827Z
UID:2567542026-05-25 18:30:00+01:00achurchnearyou
CATEGORIES:
DESCRIPTION:
GEO:-0.249875;51.548992
LOCATION:St Mary Willesden
URL:https://www.achurchnearyou.com/church/15679/service-and-events/events/
 256754/
END:VEVENT
BEGIN:VEVENT
SUMMARY:Evening Prayer
DTSTART;TZID=Europe/London:20260601T183000
DTEND;TZID=Europe/London:20260601T184500
DTSTAMP:20260422T144827Z
UID:2567542026-06-01 18:30:00+01:00achurchnearyou
CATEGORIES:
DESCRIPTION:
GEO:-0.249875;51.548992
LOCATION:St Mary Willesden
URL:https://www.achurchnearyou.com/church/15679/service-and-events/events/
 256754/
END:VEVENT
BEGIN:VEVENT
SUMMARY:Evening Prayer
DTSTART;TZID=Europe/London:20260608T183000
DTEND;TZID=Europe/London:20260608T184500
DTSTAMP:20260422T144827Z
UID:2567542026-06-08 18:30:00+01:00achurchnearyou
CATEGORIES:
DESCRIPTION:
GEO:-0.249875;51.548992
LOCATION:St Mary Willesden
URL:https://www.achurchnearyou.com/church/15679/service-and-events/events/
 256754/
END:VEVENT
BEGIN:VEVENT
SUMMARY:Evening Prayer
DTSTART;TZID=Europe/London:20260615T183000
DTEND;TZID=Europe/London:20260615T184500
DTSTAMP:20260422T144827Z
UID:2567542026-06-15 18:30:00+01:00achurchnearyou
CATEGORIES:
DESCRIPTION:
GEO:-0.249875;51.548992
LOCATION:St Mary Willesden
URL:https://www.achurchnearyou.com/church/15679/service-and-events/events/
 256754/
END:VEVENT
BEGIN:VEVENT
SUMMARY:Evening Prayer
DTSTART;TZID=Europe/London:20260622T183000
DTEND;TZID=Europe/London:20260622T184500
DTSTAMP:20260422T144827Z
UID:2567542026-06-22 18:30:00+01:00achurchnearyou
CATEGORIES:
DESCRIPTION:
GEO:-0.249875;51.548992
LOCATION:St Mary Willesden
URL:https://www.achurchnearyou.com/church/15679/service-and-events/events/
 256754/
END:VEVENT
BEGIN:VEVENT
SUMMARY:Evening Prayer
DTSTART;TZID=Europe/London:20260629T183000
DTEND;TZID=Europe/London:20260629T184500
DTSTAMP:20260422T144827Z
UID:2567542026-06-29 18:30:00+01:00achurchnearyou
CATEGORIES:
DESCRIPTION:
GEO:-0.249875;51.548992
LOCATION:St Mary Willesden
URL:https://www.achurchnearyou.com/church/15679/service-and-events/events/
 256754/
END:VEVENT
BEGIN:VEVENT
SUMMARY:Evening Prayer
DTSTART;TZID=Europe/London:20260706T183000
DTEND;TZID=Europe/London:20260706T184500
DTSTAMP:20260422T144827Z
UID:2567542026-07-06 18:30:00+01:00achurchnearyou
CATEGORIES:
DESCRIPTION:
GEO:-0.249875;51.548992
LOCATION:St Mary Willesden
URL:https://www.achurchnearyou.com/church/15679/service-and-events/events/
 256754/
END:VEVENT
BEGIN:VEVENT
SUMMARY:Evening Prayer
DTSTART;TZID=Europe/London:20260713T183000
DTEND;TZID=Europe/London:20260713T184500
DTSTAMP:20260422T144827Z
UID:2567542026-07-13 18:30:00+01:00achurchnearyou
CATEGORIES:
DESCRIPTION:
GEO:-0.249875;51.548992
LOCATION:St Mary Willesden
URL:https://www.achurchnearyou.com/church/15679/service-and-events/events/
 256754/
END:VEVENT
BEGIN:VEVENT
SUMMARY:Evening Prayer
DTSTART;TZID=Europe/London:20260720T183000
DTEND;TZID=Europe/London:20260720T184500
DTSTAMP:20260422T144827Z
UID:2567542026-07-20 18:30:00+01:00achurchnearyou
CATEGORIES:
DESCRIPTION:
GEO:-0.249875;51.548992
LOCATION:St Mary Willesden
URL:https://www.achurchnearyou.com/church/15679/service-and-events/events/
 256754/
END:VEVENT
BEGIN:VEVENT
SUMMARY:Evening Prayer
DTSTART;TZID=Europe/London:20260727T183000
DTEND;TZID=Europe/London:20260727T184500
DTSTAMP:20260422T144827Z
UID:2567542026-07-27 18:30:00+01:00achurchnearyou
CATEGORIES:
DESCRIPTION:
GEO:-0.249875;51.548992
LOCATION:St Mary Willesden
URL:https://www.achurchnearyou.com/church/15679/service-and-events/events/
 256754/
END:VEVENT
BEGIN:VEVENT
SUMMARY:Evening Prayer
DTSTART;TZID=Europe/London:20260803T183000
DTEND;TZID=Europe/London:20260803T184500
DTSTAMP:20260422T144827Z
UID:2567542026-08-03 18:30:00+01:00achurchnearyou
CATEGORIES:
DESCRIPTION:
GEO:-0.249875;51.548992
LOCATION:St Mary Willesden
URL:https://www.achurchnearyou.com/church/15679/service-and-events/events/
 256754/
END:VEVENT
BEGIN:VEVENT
SUMMARY:Evening Prayer
DTSTART;TZID=Europe/London:20260810T183000
DTEND;TZID=Europe/London:20260810T184500
DTSTAMP:20260422T144827Z
UID:2567542026-08-10 18:30:00+01:00achurchnearyou
CATEGORIES:
DESCRIPTION:
GEO:-0.249875;51.548992
LOCATION:St Mary Willesden
URL:https://www.achurchnearyou.com/church/15679/service-and-events/events/
 256754/
END:VEVENT
BEGIN:VEVENT
SUMMARY:Evening Prayer
DTSTART;TZID=Europe/London:20260817T183000
DTEND;TZID=Europe/London:20260817T184500
DTSTAMP:20260422T144827Z
UID:2567542026-08-17 18:30:00+01:00achurchnearyou
CATEGORIES:
DESCRIPTION:
GEO:-0.249875;51.548992
LOCATION:St Mary Willesden
URL:https://www.achurchnearyou.com/church/15679/service-and-events/events/
 256754/
END:VEVENT
BEGIN:VEVENT
SUMMARY:Evening Prayer
DTSTART;TZID=Europe/London:20260824T183000
DTEND;TZID=Europe/London:20260824T184500
DTSTAMP:20260422T144827Z
UID:2567542026-08-24 18:30:00+01:00achurchnearyou
CATEGORIES:
DESCRIPTION:
GEO:-0.249875;51.548992
LOCATION:St Mary Willesden
URL:https://www.achurchnearyou.com/church/15679/service-and-events/events/
 256754/
END:VEVENT
BEGIN:VEVENT
SUMMARY:Evening Prayer
DTSTART;TZID=Europe/London:20260831T183000
DTEND;TZID=Europe/London:20260831T184500
DTSTAMP:20260422T144827Z
UID:2567542026-08-31 18:30:00+01:00achurchnearyou
CATEGORIES:
DESCRIPTION:
GEO:-0.249875;51.548992
LOCATION:St Mary Willesden
URL:https://www.achurchnearyou.com/church/15679/service-and-events/events/
 256754/
END:VEVENT
BEGIN:VEVENT
SUMMARY:Evening Prayer
DTSTART;TZID=Europe/London:20260907T183000
DTEND;TZID=Europe/London:20260907T184500
DTSTAMP:20260422T144827Z
UID:2567542026-09-07 18:30:00+01:00achurchnearyou
CATEGORIES:
DESCRIPTION:
GEO:-0.249875;51.548992
LOCATION:St Mary Willesden
URL:https://www.achurchnearyou.com/church/15679/service-and-events/events/
 256754/
END:VEVENT
BEGIN:VEVENT
SUMMARY:Evening Prayer
DTSTART;TZID=Europe/London:20260914T183000
DTEND;TZID=Europe/London:20260914T184500
DTSTAMP:20260422T144827Z
UID:2567542026-09-14 18:30:00+01:00achurchnearyou
CATEGORIES:
DESCRIPTION:
GEO:-0.249875;51.548992
LOCATION:St Mary Willesden
URL:https://www.achurchnearyou.com/church/15679/service-and-events/events/
 256754/
END:VEVENT
BEGIN:VEVENT
SUMMARY:Evening Prayer
DTSTART;TZID=Europe/London:20260921T183000
DTEND;TZID=Europe/London:20260921T184500
DTSTAMP:20260422T144827Z
UID:2567542026-09-21 18:30:00+01:00achurchnearyou
CATEGORIES:
DESCRIPTION:
GEO:-0.249875;51.548992
LOCATION:St Mary Willesden
URL:https://www.achurchnearyou.com/church/15679/service-and-events/events/
 256754/
END:VEVENT
BEGIN:VEVENT
SUMMARY:Evening Prayer
DTSTART;TZID=Europe/London:20260928T183000
DTEND;TZID=Europe/London:20260928T184500
DTSTAMP:20260422T144827Z
UID:2567542026-09-28 18:30:00+01:00achurchnearyou
CATEGORIES:
DESCRIPTION:
GEO:-0.249875;51.548992
LOCATION:St Mary Willesden
URL:https://www.achurchnearyou.com/church/15679/service-and-events/events/
 256754/
END:VEVENT
BEGIN:VEVENT
SUMMARY:Evening Prayer
DTSTART;TZID=Europe/London:20261005T183000
DTEND;TZID=Europe/London:20261005T184500
DTSTAMP:20260422T144827Z
UID:2567542026-10-05 18:30:00+01:00achurchnearyou
CATEGORIES:
DESCRIPTION:
GEO:-0.249875;51.548992
LOCATION:St Mary Willesden
URL:https://www.achurchnearyou.com/church/15679/service-and-events/events/
 256754/
END:VEVENT
BEGIN:VEVENT
SUMMARY:Evening Prayer
DTSTART;TZID=Europe/London:20261012T183000
DTEND;TZID=Europe/London:20261012T184500
DTSTAMP:20260422T144827Z
UID:2567542026-10-12 18:30:00+01:00achurchnearyou
CATEGORIES:
DESCRIPTION:
GEO:-0.249875;51.548992
LOCATION:St Mary Willesden
URL:https://www.achurchnearyou.com/church/15679/service-and-events/events/
 256754/
END:VEVENT
BEGIN:VEVENT
SUMMARY:Evening Prayer
DTSTART;TZID=Europe/London:20261019T183000
DTEND;TZID=Europe/London:20261019T184500
DTSTAMP:20260422T144827Z
UID:2567542026-10-19 18:30:00+01:00achurchnearyou
CATEGORIES:
DESCRIPTION:
GEO:-0.249875;51.548992
LOCATION:St Mary Willesden
URL:https://www.achurchnearyou.com/church/15679/service-and-events/events/
 256754/
END:VEVENT
BEGIN:VEVENT
SUMMARY:Evening Prayer
DTSTART;TZID=Europe/London:20261026T183000
DTEND;TZID=Europe/London:20261026T184500
DTSTAMP:20260422T144827Z
UID:2567542026-10-26 18:30:00+00:00achurchnearyou
CATEGORIES:
DESCRIPTION:
GEO:-0.249875;51.548992
LOCATION:St Mary Willesden
URL:https://www.achurchnearyou.com/church/15679/service-and-events/events/
 256754/
END:VEVENT
BEGIN:VEVENT
SUMMARY:Evening Prayer
DTSTART;TZID=Europe/London:20261102T183000
DTEND;TZID=Europe/London:20261102T184500
DTSTAMP:20260422T144827Z
UID:2567542026-11-02 18:30:00+00:00achurchnearyou
CATEGORIES:
DESCRIPTION:
GEO:-0.249875;51.548992
LOCATION:St Mary Willesden
URL:https://www.achurchnearyou.com/church/15679/service-and-events/events/
 256754/
END:VEVENT
BEGIN:VEVENT
SUMMARY:Evening Prayer
DTSTART;TZID=Europe/London:20261109T183000
DTEND;TZID=Europe/London:20261109T184500
DTSTAMP:20260422T144827Z
UID:2567542026-11-09 18:30:00+00:00achurchnearyou
CATEGORIES:
DESCRIPTION:
GEO:-0.249875;51.548992
LOCATION:St Mary Willesden
URL:https://www.achurchnearyou.com/church/15679/service-and-events/events/
 256754/
END:VEVENT
BEGIN:VEVENT
SUMMARY:Evening Prayer
DTSTART;TZID=Europe/London:20261116T183000
DTEND;TZID=Europe/London:20261116T184500
DTSTAMP:20260422T144827Z
UID:2567542026-11-16 18:30:00+00:00achurchnearyou
CATEGORIES:
DESCRIPTION:
GEO:-0.249875;51.548992
LOCATION:St Mary Willesden
URL:https://www.achurchnearyou.com/church/15679/service-and-events/events/
 256754/
END:VEVENT
BEGIN:VEVENT
SUMMARY:Evening Prayer
DTSTART;TZID=Europe/London:20261123T183000
DTEND;TZID=Europe/London:20261123T184500
DTSTAMP:20260422T144827Z
UID:2567542026-11-23 18:30:00+00:00achurchnearyou
CATEGORIES:
DESCRIPTION:
GEO:-0.249875;51.548992
LOCATION:St Mary Willesden
URL:https://www.achurchnearyou.com/church/15679/service-and-events/events/
 256754/
END:VEVENT
BEGIN:VEVENT
SUMMARY:Evening Prayer
DTSTART;TZID=Europe/London:20261130T183000
DTEND;TZID=Europe/London:20261130T184500
DTSTAMP:20260422T144827Z
UID:2567542026-11-30 18:30:00+00:00achurchnearyou
CATEGORIES:
DESCRIPTION:
GEO:-0.249875;51.548992
LOCATION:St Mary Willesden
URL:https://www.achurchnearyou.com/church/15679/service-and-events/events/
 256754/
END:VEVENT
BEGIN:VEVENT
SUMMARY:Evening Prayer
DTSTART;TZID=Europe/London:20261207T183000
DTEND;TZID=Europe/London:20261207T184500
DTSTAMP:20260422T144827Z
UID:2567542026-12-07 18:30:00+00:00achurchnearyou
CATEGORIES:
DESCRIPTION:
GEO:-0.249875;51.548992
LOCATION:St Mary Willesden
URL:https://www.achurchnearyou.com/church/15679/service-and-events/events/
 256754/
END:VEVENT
BEGIN:VEVENT
SUMMARY:Evening Prayer
DTSTART;TZID=Europe/London:20261214T183000
DTEND;TZID=Europe/London:20261214T184500
DTSTAMP:20260422T144827Z
UID:2567542026-12-14 18:30:00+00:00achurchnearyou
CATEGORIES:
DESCRIPTION:
GEO:-0.249875;51.548992
LOCATION:St Mary Willesden
URL:https://www.achurchnearyou.com/church/15679/service-and-events/events/
 256754/
END:VEVENT
BEGIN:VEVENT
SUMMARY:Evening Prayer
DTSTART;TZID=Europe/London:20261221T183000
DTEND;TZID=Europe/London:20261221T184500
DTSTAMP:20260422T144827Z
UID:2567542026-12-21 18:30:00+00:00achurchnearyou
CATEGORIES:
DESCRIPTION:
GEO:-0.249875;51.548992
LOCATION:St Mary Willesden
URL:https://www.achurchnearyou.com/church/15679/service-and-events/events/
 256754/
END:VEVENT
BEGIN:VEVENT
SUMMARY:Evening Prayer
DTSTART;TZID=Europe/London:20261228T183000
DTEND;TZID=Europe/London:20261228T184500
DTSTAMP:20260422T144827Z
UID:2567542026-12-28 18:30:00+00:00achurchnearyou
CATEGORIES:
DESCRIPTION:
GEO:-0.249875;51.548992
LOCATION:St Mary Willesden
URL:https://www.achurchnearyou.com/church/15679/service-and-events/events/
 256754/
END:VEVENT
BEGIN:VEVENT
SUMMARY:Evening Prayer
DTSTART;TZID=Europe/London:20270104T183000
DTEND;TZID=Europe/London:20270104T184500
DTSTAMP:20260422T144827Z
UID:2567542027-01-04 18:30:00+00:00achurchnearyou
CATEGORIES:
DESCRIPTION:
GEO:-0.249875;51.548992
LOCATION:St Mary Willesden
URL:https://www.achurchnearyou.com/church/15679/service-and-events/events/
 256754/
END:VEVENT
BEGIN:VEVENT
SUMMARY:Evening Prayer
DTSTART;TZID=Europe/London:20270111T183000
DTEND;TZID=Europe/London:20270111T184500
DTSTAMP:20260422T144827Z
UID:2567542027-01-11 18:30:00+00:00achurchnearyou
CATEGORIES:
DESCRIPTION:
GEO:-0.249875;51.548992
LOCATION:St Mary Willesden
URL:https://www.achurchnearyou.com/church/15679/service-and-events/events/
 256754/
END:VEVENT
BEGIN:VEVENT
SUMMARY:Evening Prayer
DTSTART;TZID=Europe/London:20270118T183000
DTEND;TZID=Europe/London:20270118T184500
DTSTAMP:20260422T144827Z
UID:2567542027-01-18 18:30:00+00:00achurchnearyou
CATEGORIES:
DESCRIPTION:
GEO:-0.249875;51.548992
LOCATION:St Mary Willesden
URL:https://www.achurchnearyou.com/church/15679/service-and-events/events/
 256754/
END:VEVENT
BEGIN:VEVENT
SUMMARY:Evening Prayer
DTSTART;TZID=Europe/London:20270125T183000
DTEND;TZID=Europe/London:20270125T184500
DTSTAMP:20260422T144827Z
UID:2567542027-01-25 18:30:00+00:00achurchnearyou
CATEGORIES:
DESCRIPTION:
GEO:-0.249875;51.548992
LOCATION:St Mary Willesden
URL:https://www.achurchnearyou.com/church/15679/service-and-events/events/
 256754/
END:VEVENT
BEGIN:VEVENT
SUMMARY:Evening Prayer
DTSTART;TZID=Europe/London:20270201T183000
DTEND;TZID=Europe/London:20270201T184500
DTSTAMP:20260422T144827Z
UID:2567542027-02-01 18:30:00+00:00achurchnearyou
CATEGORIES:
DESCRIPTION:
GEO:-0.249875;51.548992
LOCATION:St Mary Willesden
URL:https://www.achurchnearyou.com/church/15679/service-and-events/events/
 256754/
END:VEVENT
BEGIN:VEVENT
SUMMARY:Evening Prayer
DTSTART;TZID=Europe/London:20270208T183000
DTEND;TZID=Europe/London:20270208T184500
DTSTAMP:20260422T144827Z
UID:2567542027-02-08 18:30:00+00:00achurchnearyou
CATEGORIES:
DESCRIPTION:
GEO:-0.249875;51.548992
LOCATION:St Mary Willesden
URL:https://www.achurchnearyou.com/church/15679/service-and-events/events/
 256754/
END:VEVENT
BEGIN:VEVENT
SUMMARY:Evening Prayer
DTSTART;TZID=Europe/London:20270215T183000
DTEND;TZID=Europe/London:20270215T184500
DTSTAMP:20260422T144827Z
UID:2567542027-02-15 18:30:00+00:00achurchnearyou
CATEGORIES:
DESCRIPTION:
GEO:-0.249875;51.548992
LOCATION:St Mary Willesden
URL:https://www.achurchnearyou.com/church/15679/service-and-events/events/
 256754/
END:VEVENT
BEGIN:VEVENT
SUMMARY:Evening Prayer
DTSTART;TZID=Europe/London:20270222T183000
DTEND;TZID=Europe/London:20270222T184500
DTSTAMP:20260422T144827Z
UID:2567542027-02-22 18:30:00+00:00achurchnearyou
CATEGORIES:
DESCRIPTION:
GEO:-0.249875;51.548992
LOCATION:St Mary Willesden
URL:https://www.achurchnearyou.com/church/15679/service-and-events/events/
 256754/
END:VEVENT
BEGIN:VEVENT
SUMMARY:Evening Prayer
DTSTART;TZID=Europe/London:20270301T183000
DTEND;TZID=Europe/London:20270301T184500
DTSTAMP:20260422T144827Z
UID:2567542027-03-01 18:30:00+00:00achurchnearyou
CATEGORIES:
DESCRIPTION:
GEO:-0.249875;51.548992
LOCATION:St Mary Willesden
URL:https://www.achurchnearyou.com/church/15679/service-and-events/events/
 256754/
END:VEVENT
BEGIN:VEVENT
SUMMARY:Evening Prayer
DTSTART;TZID=Europe/London:20270308T183000
DTEND;TZID=Europe/London:20270308T184500
DTSTAMP:20260422T144827Z
UID:2567542027-03-08 18:30:00+00:00achurchnearyou
CATEGORIES:
DESCRIPTION:
GEO:-0.249875;51.548992
LOCATION:St Mary Willesden
URL:https://www.achurchnearyou.com/church/15679/service-and-events/events/
 256754/
END:VEVENT
BEGIN:VEVENT
SUMMARY:Evening Prayer
DTSTART;TZID=Europe/London:20270315T183000
DTEND;TZID=Europe/London:20270315T184500
DTSTAMP:20260422T144827Z
UID:2567542027-03-15 18:30:00+00:00achurchnearyou
CATEGORIES:
DESCRIPTION:
GEO:-0.249875;51.548992
LOCATION:St Mary Willesden
URL:https://www.achurchnearyou.com/church/15679/service-and-events/events/
 256754/
END:VEVENT
BEGIN:VEVENT
SUMMARY:Evening Prayer
DTSTART;TZID=Europe/London:20270322T183000
DTEND;TZID=Europe/London:20270322T184500
DTSTAMP:20260422T144827Z
UID:2567542027-03-22 18:30:00+00:00achurchnearyou
CATEGORIES:
DESCRIPTION:
GEO:-0.249875;51.548992
LOCATION:St Mary Willesden
URL:https://www.achurchnearyou.com/church/15679/service-and-events/events/
 256754/
END:VEVENT
BEGIN:VEVENT
SUMMARY:Evening Prayer
DTSTART;TZID=Europe/London:20270329T183000
DTEND;TZID=Europe/London:20270329T184500
DTSTAMP:20260422T144827Z
UID:2567542027-03-29 18:30:00+01:00achurchnearyou
CATEGORIES:
DESCRIPTION:
GEO:-0.249875;51.548992
LOCATION:St Mary Willesden
URL:https://www.achurchnearyou.com/church/15679/service-and-events/events/
 256754/
END:VEVENT
BEGIN:VEVENT
SUMMARY:Evening Prayer
DTSTART;TZID=Europe/London:20270405T183000
DTEND;TZID=Europe/London:20270405T184500
DTSTAMP:20260422T144827Z
UID:2567542027-04-05 18:30:00+01:00achurchnearyou
CATEGORIES:
DESCRIPTION:
GEO:-0.249875;51.548992
LOCATION:St Mary Willesden
URL:https://www.achurchnearyou.com/church/15679/service-and-events/events/
 256754/
END:VEVENT
BEGIN:VEVENT
SUMMARY:Evening Prayer
DTSTART;TZID=Europe/London:20270412T183000
DTEND;TZID=Europe/London:20270412T184500
DTSTAMP:20260422T144827Z
UID:2567542027-04-12 18:30:00+01:00achurchnearyou
CATEGORIES:
DESCRIPTION:
GEO:-0.249875;51.548992
LOCATION:St Mary Willesden
URL:https://www.achurchnearyou.com/church/15679/service-and-events/events/
 256754/
END:VEVENT
BEGIN:VEVENT
SUMMARY:Evening Prayer
DTSTART;TZID=Europe/London:20270419T183000
DTEND;TZID=Europe/London:20270419T184500
DTSTAMP:20260422T144827Z
UID:2567542027-04-19 18:30:00+01:00achurchnearyou
CATEGORIES:
DESCRIPTION:
GEO:-0.249875;51.548992
LOCATION:St Mary Willesden
URL:https://www.achurchnearyou.com/church/15679/service-and-events/events/
 256754/
END:VEVENT
END:VCALENDAR
