BEGIN:VCALENDAR
VERSION:2.0
PRODID:-//achurchnearyou.com//eventfeed//EN
CALSCALE:GREGORIAN
METHOD:PUBLISH
X-WR-TIMEZONE:UTC
BEGIN:VEVENT
SUMMARY:9am & 10:45 Christingle and Nativity play
DTSTART:20251207T104500Z
DTEND:20251207T114500Z
DTSTAMP:20260424T003332Z
UID:12617492025-12-07 10:45:00+00:00achurchnearyou
CATEGORIES:
DESCRIPTION:Morning praise service with Christingles and children's nativi
 ty play
LOCATION:St Dunstan's
URL:http://www.stdunstanschurch.org.uk/christmas
END:VEVENT
END:VCALENDAR
