BEGIN:VCALENDAR
VERSION:2.0
PRODID:-//achurchnearyou.com//eventfeed//EN
CALSCALE:GREGORIAN
METHOD:PUBLISH
X-WR-TIMEZONE:UTC
BEGIN:VEVENT
SUMMARY:Easter Compline
DTSTART;TZID=Europe/London:20260330T200000
DTEND;TZID=Europe/London:20260330T210000
DTSTAMP:20260423T074309Z
UID:12997542026-03-30 20:00:00+01:00achurchnearyou
CATEGORIES:
DESCRIPTION:A spoken prayer service during Holy Week.
GEO:-0.3184081;51.5195459
LOCATION:St Stephen Ealing
URL:https://www.achurchnearyou.com/church/15697/service-and-events/events/
 1299754/
END:VEVENT
BEGIN:VEVENT
SUMMARY:Easter Compline
DTSTART;TZID=Europe/London:20260331T200000
DTEND;TZID=Europe/London:20260331T210000
DTSTAMP:20260423T074309Z
UID:12997542026-03-31 20:00:00+01:00achurchnearyou
CATEGORIES:
DESCRIPTION:A spoken prayer service during Holy Week.
GEO:-0.3184081;51.5195459
LOCATION:St Stephen Ealing
URL:https://www.achurchnearyou.com/church/15697/service-and-events/events/
 1299754/
END:VEVENT
BEGIN:VEVENT
SUMMARY:Easter Compline
DTSTART;TZID=Europe/London:20260401T200000
DTEND;TZID=Europe/London:20260401T210000
DTSTAMP:20260423T074309Z
UID:12997542026-04-01 20:00:00+01:00achurchnearyou
CATEGORIES:
DESCRIPTION:A spoken prayer service during Holy Week.
GEO:-0.3184081;51.5195459
LOCATION:St Stephen Ealing
URL:https://www.achurchnearyou.com/church/15697/service-and-events/events/
 1299754/
END:VEVENT
END:VCALENDAR
