BEGIN:VCALENDAR
VERSION:2.0
PRODID:-//achurchnearyou.com//eventfeed//EN
CALSCALE:GREGORIAN
METHOD:PUBLISH
X-WR-TIMEZONE:UTC
BEGIN:VEVENT
SUMMARY:Maundy Thursday Meal
DTSTART:20260402T060000Z
DTEND:20260402T080000Z
DTSTAMP:20260423T121220Z
UID:12997562026-04-02 06:00:00+00:00achurchnearyou
CATEGORIES:
DESCRIPTION:A simple meal to replicate the Last Supper with shared Communi
 on. You must sign up for this service/meal beforehand. Please contact the 
 office admin@ststephens-ealing.org.
GEO:-0.3184081;51.5195459
LOCATION:St Stephen Ealing
URL:https://ststephens-ealing.org/Groups/236297/Easter_Services.aspx
END:VEVENT
END:VCALENDAR
