BEGIN:VCALENDAR
VERSION:2.0
PRODID:-//achurchnearyou.com//eventfeed//EN
CALSCALE:GREGORIAN
METHOD:PUBLISH
X-WR-TIMEZONE:UTC
BEGIN:VEVENT
SUMMARY:Easter Sunrise Communion
DTSTART:20260405T050000Z
DTEND:20260405T060000Z
DTSTAMP:20260423T120354Z
UID:4976552026-04-05 05:00:00+00:00achurchnearyou
CATEGORIES:
DESCRIPTION:Lighting of Easter Candle and first Communion of Easter follow
 ed by breakfast.
GEO:-0.3184081;51.5195459
LOCATION:St Stephen Ealing
URL:https://ststephens-ealing.org/Groups/236297/Easter_Services.aspx
END:VEVENT
END:VCALENDAR
