BEGIN:VCALENDAR
VERSION:2.0
PRODID:-//achurchnearyou.com//eventfeed//EN
CALSCALE:GREGORIAN
METHOD:PUBLISH
X-WR-TIMEZONE:UTC
BEGIN:VEVENT
SUMMARY:Church Open Afternoon
DTSTART:20260101T140000Z
DTEND:20260101T160000Z
DTSTAMP:20260424T000905Z
UID:12658592026-01-01 14:00:00+00:00achurchnearyou
CATEGORIES:
DESCRIPTION:Come and explore our historic building and hear some of the st
 ories of the folks who have made St Mary's home down the centuries.
GEO:-0.3479;51.5136
LOCATION:St Mary's Hanwell
URL:https://www.stmaryshanwell.org.uk/Christmas
END:VEVENT
END:VCALENDAR
