BEGIN:VCALENDAR
VERSION:2.0
PRODID:-//achurchnearyou.com//eventfeed//EN
CALSCALE:GREGORIAN
METHOD:PUBLISH
X-WR-TIMEZONE:UTC
BEGIN:VEVENT
SUMMARY:Good Friday Hour at the Cross
DTSTART:20260403T140000Z
DTEND:20260403T150000Z
DTSTAMP:20260424T143353Z
UID:13028002026-04-03 14:00:00+00:00achurchnearyou
CATEGORIES:
DESCRIPTION:An opportunity to gather with others to reflect upon Jesus' sa
 crifice on Good Friday.
GEO:-0.35328;51.550092
LOCATION:St Barnabas
URL:https://www.achurchnearyou.com/church/15709/service-and-events/events/
 1302800/
END:VEVENT
END:VCALENDAR
