BEGIN:VCALENDAR
VERSION:2.0
PRODID:-//achurchnearyou.com//eventfeed//EN
CALSCALE:GREGORIAN
METHOD:PUBLISH
X-WR-TIMEZONE:UTC
BEGIN:VEVENT
SUMMARY:My God\, Why have You Forsaken me?
DTSTART:20260331T110000Z
DTEND:20260331T123000Z
DTSTAMP:20260423T115455Z
UID:13137442026-03-31 11:00:00+00:00achurchnearyou
CATEGORIES:
DESCRIPTION:Join us for a time of contemplative worship and reflection as 
 we journey with the cross and remember the lessons of history.\n\nOur Medi
 tations and Reflections of the Cross will include a short reflection on th
 e Auschwitz-Birkenau camp\, inviting us to consider themes of suffering\, 
 hope\, and the responsibility to uphold human dignity.\n\nWhen & Where:\n\
 nTuesday 31st March\, 12:00-1:30pm\nWednesday 1st April\, 7:30–9:00pm\nS
 mall Hall\, St John's Church Southall Green\n\nThis is a quiet\, reflectiv
 e space suitable for anyone seeking a deeper encounter with faith\, rememb
 rance\, and the meaning of sacrifice. All are welcome.
GEO:-0.381238;51.501156
LOCATION:St John's Church Southall Green
URL:https://www.achurchnearyou.com/church/15716/service-and-events/events/
 1313744/
END:VEVENT
END:VCALENDAR
