BEGIN:VCALENDAR
VERSION:2.0
PRODID:-//achurchnearyou.com//eventfeed//EN
CALSCALE:GREGORIAN
METHOD:PUBLISH
X-WR-TIMEZONE:UTC
BEGIN:VEVENT
SUMMARY:Christmas Day Eucharist
DTSTART:20251225T100000Z
DTEND:20251225T110000Z
DTSTAMP:20260424T030627Z
UID:12716832025-12-25 10:00:00+00:00achurchnearyou
CATEGORIES:
DESCRIPTION:Come and join our family service of Holy Communion on Christma
 s morning.
GEO:-0.398515;51.583849
LOCATION:St Lawrence Eastcote
URL:https://www.achurchnearyou.com/church/15737/service-and-events/events/
 1271683/
END:VEVENT
END:VCALENDAR
