BEGIN:VCALENDAR
VERSION:2.0
PRODID:-//achurchnearyou.com//eventfeed//EN
CALSCALE:GREGORIAN
METHOD:PUBLISH
X-WR-TIMEZONE:UTC
BEGIN:VEVENT
SUMMARY:Holy Saturday
DTSTART:20250419T190000Z
DTEND:20250419T201500Z
DTSTAMP:20260424T182959Z
UID:11814802025-04-19 19:00:00+00:00achurchnearyou
CATEGORIES:
DESCRIPTION:Sung Mass followed by Vigil
GEO:-0.410796;51.565973
LOCATION:St Paul's Ruislip Manor
URL:https://www.achurchnearyou.com/church/15750/service-and-events/events/
 1181480/
END:VEVENT
END:VCALENDAR
