BEGIN:VCALENDAR
VERSION:2.0
PRODID:-//achurchnearyou.com//eventfeed//EN
CALSCALE:GREGORIAN
METHOD:PUBLISH
X-WR-TIMEZONE:UTC
BEGIN:VEVENT
SUMMARY:Music for Holy Week
DTSTART;TZID=Europe/London:20260331T130000
DTEND;TZID=Europe/London:20260331T140000
DTSTAMP:20260424T120400Z
UID:10524782026-03-31 13:00:00+01:00achurchnearyou
CATEGORIES:
DESCRIPTION:Motets and anthems with the Grosvenor Chapel Choir. Free entry
  - retiring collection.
GEO:-0.151392;51.509017
LOCATION:The Grosvenor Chapel
URL:https://www.achurchnearyou.com/church/15773/service-and-events/events/
 1052478/
END:VEVENT
END:VCALENDAR
