BEGIN:VCALENDAR
VERSION:2.0
PRODID:-//achurchnearyou.com//eventfeed//EN
CALSCALE:GREGORIAN
METHOD:PUBLISH
X-WR-TIMEZONE:UTC
BEGIN:VEVENT
SUMMARY:Candlelit Midnight Mass
DTSTART:20251224T224500Z
DTEND:20251224T234500Z
DTSTAMP:20260424T225148Z
UID:12525992025-12-24 22:45:00+00:00achurchnearyou
CATEGORIES:
DESCRIPTION:Candlelit Midnight Mass\, with carol singing from 10.30pm
GEO:-0.151392;51.509017
LOCATION:The Grosvenor Chapel
URL:https://www.achurchnearyou.com/church/15773/service-and-events/events/
 1252599/
END:VEVENT
END:VCALENDAR
