BEGIN:VCALENDAR
VERSION:2.0
PRODID:-//achurchnearyou.com//eventfeed//EN
CALSCALE:GREGORIAN
METHOD:PUBLISH
X-WR-TIMEZONE:UTC
BEGIN:VEVENT
SUMMARY:Traditional Holy Communion
DTSTART;TZID=Europe/London:20260423T101500
DTEND;TZID=Europe/London:20260423T104500
DTSTAMP:20260422T150917Z
UID:4775452026-04-23 10:15:00+01:00achurchnearyou
CATEGORIES:
DESCRIPTION:Holy Communion in the nave of our historic Mediaeval church bu
 ilding followed by refreshments in the Bridgewater Room.
GEO:-2.334487;53.484394
LOCATION:Eccles Parish Church
URL:https://www.achurchnearyou.com/church/15812/service-and-events/events/
 477545/
END:VEVENT
BEGIN:VEVENT
SUMMARY:Traditional Holy Communion
DTSTART;TZID=Europe/London:20260430T101500
DTEND;TZID=Europe/London:20260430T104500
DTSTAMP:20260422T150917Z
UID:4775452026-04-30 10:15:00+01:00achurchnearyou
CATEGORIES:
DESCRIPTION:Holy Communion in the nave of our historic Mediaeval church bu
 ilding followed by refreshments in the Bridgewater Room.
GEO:-2.334487;53.484394
LOCATION:Eccles Parish Church
URL:https://www.achurchnearyou.com/church/15812/service-and-events/events/
 477545/
END:VEVENT
BEGIN:VEVENT
SUMMARY:Traditional Holy Communion
DTSTART;TZID=Europe/London:20260507T101500
DTEND;TZID=Europe/London:20260507T104500
DTSTAMP:20260422T150917Z
UID:4775452026-05-07 10:15:00+01:00achurchnearyou
CATEGORIES:
DESCRIPTION:Holy Communion in the nave of our historic Mediaeval church bu
 ilding followed by refreshments in the Bridgewater Room.
GEO:-2.334487;53.484394
LOCATION:Eccles Parish Church
URL:https://www.achurchnearyou.com/church/15812/service-and-events/events/
 477545/
END:VEVENT
BEGIN:VEVENT
SUMMARY:Traditional Holy Communion
DTSTART;TZID=Europe/London:20260514T101500
DTEND;TZID=Europe/London:20260514T104500
DTSTAMP:20260422T150917Z
UID:4775452026-05-14 10:15:00+01:00achurchnearyou
CATEGORIES:
DESCRIPTION:Holy Communion in the nave of our historic Mediaeval church bu
 ilding followed by refreshments in the Bridgewater Room.
GEO:-2.334487;53.484394
LOCATION:Eccles Parish Church
URL:https://www.achurchnearyou.com/church/15812/service-and-events/events/
 477545/
END:VEVENT
BEGIN:VEVENT
SUMMARY:Traditional Holy Communion
DTSTART;TZID=Europe/London:20260521T101500
DTEND;TZID=Europe/London:20260521T104500
DTSTAMP:20260422T150917Z
UID:4775452026-05-21 10:15:00+01:00achurchnearyou
CATEGORIES:
DESCRIPTION:Holy Communion in the nave of our historic Mediaeval church bu
 ilding followed by refreshments in the Bridgewater Room.
GEO:-2.334487;53.484394
LOCATION:Eccles Parish Church
URL:https://www.achurchnearyou.com/church/15812/service-and-events/events/
 477545/
END:VEVENT
BEGIN:VEVENT
SUMMARY:Traditional Holy Communion
DTSTART;TZID=Europe/London:20260528T101500
DTEND;TZID=Europe/London:20260528T104500
DTSTAMP:20260422T150917Z
UID:4775452026-05-28 10:15:00+01:00achurchnearyou
CATEGORIES:
DESCRIPTION:Holy Communion in the nave of our historic Mediaeval church bu
 ilding followed by refreshments in the Bridgewater Room.
GEO:-2.334487;53.484394
LOCATION:Eccles Parish Church
URL:https://www.achurchnearyou.com/church/15812/service-and-events/events/
 477545/
END:VEVENT
BEGIN:VEVENT
SUMMARY:Traditional Holy Communion
DTSTART;TZID=Europe/London:20260604T101500
DTEND;TZID=Europe/London:20260604T104500
DTSTAMP:20260422T150917Z
UID:4775452026-06-04 10:15:00+01:00achurchnearyou
CATEGORIES:
DESCRIPTION:Holy Communion in the nave of our historic Mediaeval church bu
 ilding followed by refreshments in the Bridgewater Room.
GEO:-2.334487;53.484394
LOCATION:Eccles Parish Church
URL:https://www.achurchnearyou.com/church/15812/service-and-events/events/
 477545/
END:VEVENT
BEGIN:VEVENT
SUMMARY:Traditional Holy Communion
DTSTART;TZID=Europe/London:20260611T101500
DTEND;TZID=Europe/London:20260611T104500
DTSTAMP:20260422T150917Z
UID:4775452026-06-11 10:15:00+01:00achurchnearyou
CATEGORIES:
DESCRIPTION:Holy Communion in the nave of our historic Mediaeval church bu
 ilding followed by refreshments in the Bridgewater Room.
GEO:-2.334487;53.484394
LOCATION:Eccles Parish Church
URL:https://www.achurchnearyou.com/church/15812/service-and-events/events/
 477545/
END:VEVENT
BEGIN:VEVENT
SUMMARY:Traditional Holy Communion
DTSTART;TZID=Europe/London:20260618T101500
DTEND;TZID=Europe/London:20260618T104500
DTSTAMP:20260422T150917Z
UID:4775452026-06-18 10:15:00+01:00achurchnearyou
CATEGORIES:
DESCRIPTION:Holy Communion in the nave of our historic Mediaeval church bu
 ilding followed by refreshments in the Bridgewater Room.
GEO:-2.334487;53.484394
LOCATION:Eccles Parish Church
URL:https://www.achurchnearyou.com/church/15812/service-and-events/events/
 477545/
END:VEVENT
BEGIN:VEVENT
SUMMARY:Traditional Holy Communion
DTSTART;TZID=Europe/London:20260625T101500
DTEND;TZID=Europe/London:20260625T104500
DTSTAMP:20260422T150917Z
UID:4775452026-06-25 10:15:00+01:00achurchnearyou
CATEGORIES:
DESCRIPTION:Holy Communion in the nave of our historic Mediaeval church bu
 ilding followed by refreshments in the Bridgewater Room.
GEO:-2.334487;53.484394
LOCATION:Eccles Parish Church
URL:https://www.achurchnearyou.com/church/15812/service-and-events/events/
 477545/
END:VEVENT
BEGIN:VEVENT
SUMMARY:Traditional Holy Communion
DTSTART;TZID=Europe/London:20260702T101500
DTEND;TZID=Europe/London:20260702T104500
DTSTAMP:20260422T150917Z
UID:4775452026-07-02 10:15:00+01:00achurchnearyou
CATEGORIES:
DESCRIPTION:Holy Communion in the nave of our historic Mediaeval church bu
 ilding followed by refreshments in the Bridgewater Room.
GEO:-2.334487;53.484394
LOCATION:Eccles Parish Church
URL:https://www.achurchnearyou.com/church/15812/service-and-events/events/
 477545/
END:VEVENT
BEGIN:VEVENT
SUMMARY:Traditional Holy Communion
DTSTART;TZID=Europe/London:20260709T101500
DTEND;TZID=Europe/London:20260709T104500
DTSTAMP:20260422T150917Z
UID:4775452026-07-09 10:15:00+01:00achurchnearyou
CATEGORIES:
DESCRIPTION:Holy Communion in the nave of our historic Mediaeval church bu
 ilding followed by refreshments in the Bridgewater Room.
GEO:-2.334487;53.484394
LOCATION:Eccles Parish Church
URL:https://www.achurchnearyou.com/church/15812/service-and-events/events/
 477545/
END:VEVENT
BEGIN:VEVENT
SUMMARY:Traditional Holy Communion
DTSTART;TZID=Europe/London:20260716T101500
DTEND;TZID=Europe/London:20260716T104500
DTSTAMP:20260422T150917Z
UID:4775452026-07-16 10:15:00+01:00achurchnearyou
CATEGORIES:
DESCRIPTION:Holy Communion in the nave of our historic Mediaeval church bu
 ilding followed by refreshments in the Bridgewater Room.
GEO:-2.334487;53.484394
LOCATION:Eccles Parish Church
URL:https://www.achurchnearyou.com/church/15812/service-and-events/events/
 477545/
END:VEVENT
BEGIN:VEVENT
SUMMARY:Traditional Holy Communion
DTSTART;TZID=Europe/London:20260723T101500
DTEND;TZID=Europe/London:20260723T104500
DTSTAMP:20260422T150917Z
UID:4775452026-07-23 10:15:00+01:00achurchnearyou
CATEGORIES:
DESCRIPTION:Holy Communion in the nave of our historic Mediaeval church bu
 ilding followed by refreshments in the Bridgewater Room.
GEO:-2.334487;53.484394
LOCATION:Eccles Parish Church
URL:https://www.achurchnearyou.com/church/15812/service-and-events/events/
 477545/
END:VEVENT
BEGIN:VEVENT
SUMMARY:Traditional Holy Communion
DTSTART;TZID=Europe/London:20260730T101500
DTEND;TZID=Europe/London:20260730T104500
DTSTAMP:20260422T150917Z
UID:4775452026-07-30 10:15:00+01:00achurchnearyou
CATEGORIES:
DESCRIPTION:Holy Communion in the nave of our historic Mediaeval church bu
 ilding followed by refreshments in the Bridgewater Room.
GEO:-2.334487;53.484394
LOCATION:Eccles Parish Church
URL:https://www.achurchnearyou.com/church/15812/service-and-events/events/
 477545/
END:VEVENT
BEGIN:VEVENT
SUMMARY:Traditional Holy Communion
DTSTART;TZID=Europe/London:20260806T101500
DTEND;TZID=Europe/London:20260806T104500
DTSTAMP:20260422T150917Z
UID:4775452026-08-06 10:15:00+01:00achurchnearyou
CATEGORIES:
DESCRIPTION:Holy Communion in the nave of our historic Mediaeval church bu
 ilding followed by refreshments in the Bridgewater Room.
GEO:-2.334487;53.484394
LOCATION:Eccles Parish Church
URL:https://www.achurchnearyou.com/church/15812/service-and-events/events/
 477545/
END:VEVENT
BEGIN:VEVENT
SUMMARY:Traditional Holy Communion
DTSTART;TZID=Europe/London:20260813T101500
DTEND;TZID=Europe/London:20260813T104500
DTSTAMP:20260422T150917Z
UID:4775452026-08-13 10:15:00+01:00achurchnearyou
CATEGORIES:
DESCRIPTION:Holy Communion in the nave of our historic Mediaeval church bu
 ilding followed by refreshments in the Bridgewater Room.
GEO:-2.334487;53.484394
LOCATION:Eccles Parish Church
URL:https://www.achurchnearyou.com/church/15812/service-and-events/events/
 477545/
END:VEVENT
BEGIN:VEVENT
SUMMARY:Traditional Holy Communion
DTSTART;TZID=Europe/London:20260820T101500
DTEND;TZID=Europe/London:20260820T104500
DTSTAMP:20260422T150917Z
UID:4775452026-08-20 10:15:00+01:00achurchnearyou
CATEGORIES:
DESCRIPTION:Holy Communion in the nave of our historic Mediaeval church bu
 ilding followed by refreshments in the Bridgewater Room.
GEO:-2.334487;53.484394
LOCATION:Eccles Parish Church
URL:https://www.achurchnearyou.com/church/15812/service-and-events/events/
 477545/
END:VEVENT
BEGIN:VEVENT
SUMMARY:Traditional Holy Communion
DTSTART;TZID=Europe/London:20260827T101500
DTEND;TZID=Europe/London:20260827T104500
DTSTAMP:20260422T150917Z
UID:4775452026-08-27 10:15:00+01:00achurchnearyou
CATEGORIES:
DESCRIPTION:Holy Communion in the nave of our historic Mediaeval church bu
 ilding followed by refreshments in the Bridgewater Room.
GEO:-2.334487;53.484394
LOCATION:Eccles Parish Church
URL:https://www.achurchnearyou.com/church/15812/service-and-events/events/
 477545/
END:VEVENT
BEGIN:VEVENT
SUMMARY:Traditional Holy Communion
DTSTART;TZID=Europe/London:20260903T101500
DTEND;TZID=Europe/London:20260903T104500
DTSTAMP:20260422T150917Z
UID:4775452026-09-03 10:15:00+01:00achurchnearyou
CATEGORIES:
DESCRIPTION:Holy Communion in the nave of our historic Mediaeval church bu
 ilding followed by refreshments in the Bridgewater Room.
GEO:-2.334487;53.484394
LOCATION:Eccles Parish Church
URL:https://www.achurchnearyou.com/church/15812/service-and-events/events/
 477545/
END:VEVENT
BEGIN:VEVENT
SUMMARY:Traditional Holy Communion
DTSTART;TZID=Europe/London:20260910T101500
DTEND;TZID=Europe/London:20260910T104500
DTSTAMP:20260422T150917Z
UID:4775452026-09-10 10:15:00+01:00achurchnearyou
CATEGORIES:
DESCRIPTION:Holy Communion in the nave of our historic Mediaeval church bu
 ilding followed by refreshments in the Bridgewater Room.
GEO:-2.334487;53.484394
LOCATION:Eccles Parish Church
URL:https://www.achurchnearyou.com/church/15812/service-and-events/events/
 477545/
END:VEVENT
BEGIN:VEVENT
SUMMARY:Traditional Holy Communion
DTSTART;TZID=Europe/London:20260917T101500
DTEND;TZID=Europe/London:20260917T104500
DTSTAMP:20260422T150917Z
UID:4775452026-09-17 10:15:00+01:00achurchnearyou
CATEGORIES:
DESCRIPTION:Holy Communion in the nave of our historic Mediaeval church bu
 ilding followed by refreshments in the Bridgewater Room.
GEO:-2.334487;53.484394
LOCATION:Eccles Parish Church
URL:https://www.achurchnearyou.com/church/15812/service-and-events/events/
 477545/
END:VEVENT
BEGIN:VEVENT
SUMMARY:Traditional Holy Communion
DTSTART;TZID=Europe/London:20260924T101500
DTEND;TZID=Europe/London:20260924T104500
DTSTAMP:20260422T150917Z
UID:4775452026-09-24 10:15:00+01:00achurchnearyou
CATEGORIES:
DESCRIPTION:Holy Communion in the nave of our historic Mediaeval church bu
 ilding followed by refreshments in the Bridgewater Room.
GEO:-2.334487;53.484394
LOCATION:Eccles Parish Church
URL:https://www.achurchnearyou.com/church/15812/service-and-events/events/
 477545/
END:VEVENT
BEGIN:VEVENT
SUMMARY:Traditional Holy Communion
DTSTART;TZID=Europe/London:20261001T101500
DTEND;TZID=Europe/London:20261001T104500
DTSTAMP:20260422T150917Z
UID:4775452026-10-01 10:15:00+01:00achurchnearyou
CATEGORIES:
DESCRIPTION:Holy Communion in the nave of our historic Mediaeval church bu
 ilding followed by refreshments in the Bridgewater Room.
GEO:-2.334487;53.484394
LOCATION:Eccles Parish Church
URL:https://www.achurchnearyou.com/church/15812/service-and-events/events/
 477545/
END:VEVENT
BEGIN:VEVENT
SUMMARY:Traditional Holy Communion
DTSTART;TZID=Europe/London:20261008T101500
DTEND;TZID=Europe/London:20261008T104500
DTSTAMP:20260422T150917Z
UID:4775452026-10-08 10:15:00+01:00achurchnearyou
CATEGORIES:
DESCRIPTION:Holy Communion in the nave of our historic Mediaeval church bu
 ilding followed by refreshments in the Bridgewater Room.
GEO:-2.334487;53.484394
LOCATION:Eccles Parish Church
URL:https://www.achurchnearyou.com/church/15812/service-and-events/events/
 477545/
END:VEVENT
BEGIN:VEVENT
SUMMARY:Traditional Holy Communion
DTSTART;TZID=Europe/London:20261015T101500
DTEND;TZID=Europe/London:20261015T104500
DTSTAMP:20260422T150917Z
UID:4775452026-10-15 10:15:00+01:00achurchnearyou
CATEGORIES:
DESCRIPTION:Holy Communion in the nave of our historic Mediaeval church bu
 ilding followed by refreshments in the Bridgewater Room.
GEO:-2.334487;53.484394
LOCATION:Eccles Parish Church
URL:https://www.achurchnearyou.com/church/15812/service-and-events/events/
 477545/
END:VEVENT
BEGIN:VEVENT
SUMMARY:Traditional Holy Communion
DTSTART;TZID=Europe/London:20261022T101500
DTEND;TZID=Europe/London:20261022T104500
DTSTAMP:20260422T150917Z
UID:4775452026-10-22 10:15:00+01:00achurchnearyou
CATEGORIES:
DESCRIPTION:Holy Communion in the nave of our historic Mediaeval church bu
 ilding followed by refreshments in the Bridgewater Room.
GEO:-2.334487;53.484394
LOCATION:Eccles Parish Church
URL:https://www.achurchnearyou.com/church/15812/service-and-events/events/
 477545/
END:VEVENT
BEGIN:VEVENT
SUMMARY:Traditional Holy Communion
DTSTART;TZID=Europe/London:20261029T101500
DTEND;TZID=Europe/London:20261029T104500
DTSTAMP:20260422T150917Z
UID:4775452026-10-29 10:15:00+00:00achurchnearyou
CATEGORIES:
DESCRIPTION:Holy Communion in the nave of our historic Mediaeval church bu
 ilding followed by refreshments in the Bridgewater Room.
GEO:-2.334487;53.484394
LOCATION:Eccles Parish Church
URL:https://www.achurchnearyou.com/church/15812/service-and-events/events/
 477545/
END:VEVENT
BEGIN:VEVENT
SUMMARY:Traditional Holy Communion
DTSTART;TZID=Europe/London:20261105T101500
DTEND;TZID=Europe/London:20261105T104500
DTSTAMP:20260422T150917Z
UID:4775452026-11-05 10:15:00+00:00achurchnearyou
CATEGORIES:
DESCRIPTION:Holy Communion in the nave of our historic Mediaeval church bu
 ilding followed by refreshments in the Bridgewater Room.
GEO:-2.334487;53.484394
LOCATION:Eccles Parish Church
URL:https://www.achurchnearyou.com/church/15812/service-and-events/events/
 477545/
END:VEVENT
BEGIN:VEVENT
SUMMARY:Traditional Holy Communion
DTSTART;TZID=Europe/London:20261112T101500
DTEND;TZID=Europe/London:20261112T104500
DTSTAMP:20260422T150917Z
UID:4775452026-11-12 10:15:00+00:00achurchnearyou
CATEGORIES:
DESCRIPTION:Holy Communion in the nave of our historic Mediaeval church bu
 ilding followed by refreshments in the Bridgewater Room.
GEO:-2.334487;53.484394
LOCATION:Eccles Parish Church
URL:https://www.achurchnearyou.com/church/15812/service-and-events/events/
 477545/
END:VEVENT
BEGIN:VEVENT
SUMMARY:Traditional Holy Communion
DTSTART;TZID=Europe/London:20261119T101500
DTEND;TZID=Europe/London:20261119T104500
DTSTAMP:20260422T150917Z
UID:4775452026-11-19 10:15:00+00:00achurchnearyou
CATEGORIES:
DESCRIPTION:Holy Communion in the nave of our historic Mediaeval church bu
 ilding followed by refreshments in the Bridgewater Room.
GEO:-2.334487;53.484394
LOCATION:Eccles Parish Church
URL:https://www.achurchnearyou.com/church/15812/service-and-events/events/
 477545/
END:VEVENT
BEGIN:VEVENT
SUMMARY:Traditional Holy Communion
DTSTART;TZID=Europe/London:20261126T101500
DTEND;TZID=Europe/London:20261126T104500
DTSTAMP:20260422T150917Z
UID:4775452026-11-26 10:15:00+00:00achurchnearyou
CATEGORIES:
DESCRIPTION:Holy Communion in the nave of our historic Mediaeval church bu
 ilding followed by refreshments in the Bridgewater Room.
GEO:-2.334487;53.484394
LOCATION:Eccles Parish Church
URL:https://www.achurchnearyou.com/church/15812/service-and-events/events/
 477545/
END:VEVENT
BEGIN:VEVENT
SUMMARY:Traditional Holy Communion
DTSTART;TZID=Europe/London:20261203T101500
DTEND;TZID=Europe/London:20261203T104500
DTSTAMP:20260422T150917Z
UID:4775452026-12-03 10:15:00+00:00achurchnearyou
CATEGORIES:
DESCRIPTION:Holy Communion in the nave of our historic Mediaeval church bu
 ilding followed by refreshments in the Bridgewater Room.
GEO:-2.334487;53.484394
LOCATION:Eccles Parish Church
URL:https://www.achurchnearyou.com/church/15812/service-and-events/events/
 477545/
END:VEVENT
BEGIN:VEVENT
SUMMARY:Traditional Holy Communion
DTSTART;TZID=Europe/London:20261210T101500
DTEND;TZID=Europe/London:20261210T104500
DTSTAMP:20260422T150917Z
UID:4775452026-12-10 10:15:00+00:00achurchnearyou
CATEGORIES:
DESCRIPTION:Holy Communion in the nave of our historic Mediaeval church bu
 ilding followed by refreshments in the Bridgewater Room.
GEO:-2.334487;53.484394
LOCATION:Eccles Parish Church
URL:https://www.achurchnearyou.com/church/15812/service-and-events/events/
 477545/
END:VEVENT
BEGIN:VEVENT
SUMMARY:Traditional Holy Communion
DTSTART;TZID=Europe/London:20261217T101500
DTEND;TZID=Europe/London:20261217T104500
DTSTAMP:20260422T150917Z
UID:4775452026-12-17 10:15:00+00:00achurchnearyou
CATEGORIES:
DESCRIPTION:Holy Communion in the nave of our historic Mediaeval church bu
 ilding followed by refreshments in the Bridgewater Room.
GEO:-2.334487;53.484394
LOCATION:Eccles Parish Church
URL:https://www.achurchnearyou.com/church/15812/service-and-events/events/
 477545/
END:VEVENT
BEGIN:VEVENT
SUMMARY:Traditional Holy Communion
DTSTART;TZID=Europe/London:20261224T101500
DTEND;TZID=Europe/London:20261224T104500
DTSTAMP:20260422T150917Z
UID:4775452026-12-24 10:15:00+00:00achurchnearyou
CATEGORIES:
DESCRIPTION:Holy Communion in the nave of our historic Mediaeval church bu
 ilding followed by refreshments in the Bridgewater Room.
GEO:-2.334487;53.484394
LOCATION:Eccles Parish Church
URL:https://www.achurchnearyou.com/church/15812/service-and-events/events/
 477545/
END:VEVENT
BEGIN:VEVENT
SUMMARY:Traditional Holy Communion
DTSTART;TZID=Europe/London:20261231T101500
DTEND;TZID=Europe/London:20261231T104500
DTSTAMP:20260422T150917Z
UID:4775452026-12-31 10:15:00+00:00achurchnearyou
CATEGORIES:
DESCRIPTION:Holy Communion in the nave of our historic Mediaeval church bu
 ilding followed by refreshments in the Bridgewater Room.
GEO:-2.334487;53.484394
LOCATION:Eccles Parish Church
URL:https://www.achurchnearyou.com/church/15812/service-and-events/events/
 477545/
END:VEVENT
BEGIN:VEVENT
SUMMARY:Traditional Holy Communion
DTSTART;TZID=Europe/London:20270107T101500
DTEND;TZID=Europe/London:20270107T104500
DTSTAMP:20260422T150917Z
UID:4775452027-01-07 10:15:00+00:00achurchnearyou
CATEGORIES:
DESCRIPTION:Holy Communion in the nave of our historic Mediaeval church bu
 ilding followed by refreshments in the Bridgewater Room.
GEO:-2.334487;53.484394
LOCATION:Eccles Parish Church
URL:https://www.achurchnearyou.com/church/15812/service-and-events/events/
 477545/
END:VEVENT
BEGIN:VEVENT
SUMMARY:Traditional Holy Communion
DTSTART;TZID=Europe/London:20270114T101500
DTEND;TZID=Europe/London:20270114T104500
DTSTAMP:20260422T150917Z
UID:4775452027-01-14 10:15:00+00:00achurchnearyou
CATEGORIES:
DESCRIPTION:Holy Communion in the nave of our historic Mediaeval church bu
 ilding followed by refreshments in the Bridgewater Room.
GEO:-2.334487;53.484394
LOCATION:Eccles Parish Church
URL:https://www.achurchnearyou.com/church/15812/service-and-events/events/
 477545/
END:VEVENT
BEGIN:VEVENT
SUMMARY:Traditional Holy Communion
DTSTART;TZID=Europe/London:20270121T101500
DTEND;TZID=Europe/London:20270121T104500
DTSTAMP:20260422T150917Z
UID:4775452027-01-21 10:15:00+00:00achurchnearyou
CATEGORIES:
DESCRIPTION:Holy Communion in the nave of our historic Mediaeval church bu
 ilding followed by refreshments in the Bridgewater Room.
GEO:-2.334487;53.484394
LOCATION:Eccles Parish Church
URL:https://www.achurchnearyou.com/church/15812/service-and-events/events/
 477545/
END:VEVENT
BEGIN:VEVENT
SUMMARY:Traditional Holy Communion
DTSTART;TZID=Europe/London:20270128T101500
DTEND;TZID=Europe/London:20270128T104500
DTSTAMP:20260422T150917Z
UID:4775452027-01-28 10:15:00+00:00achurchnearyou
CATEGORIES:
DESCRIPTION:Holy Communion in the nave of our historic Mediaeval church bu
 ilding followed by refreshments in the Bridgewater Room.
GEO:-2.334487;53.484394
LOCATION:Eccles Parish Church
URL:https://www.achurchnearyou.com/church/15812/service-and-events/events/
 477545/
END:VEVENT
BEGIN:VEVENT
SUMMARY:Traditional Holy Communion
DTSTART;TZID=Europe/London:20270204T101500
DTEND;TZID=Europe/London:20270204T104500
DTSTAMP:20260422T150917Z
UID:4775452027-02-04 10:15:00+00:00achurchnearyou
CATEGORIES:
DESCRIPTION:Holy Communion in the nave of our historic Mediaeval church bu
 ilding followed by refreshments in the Bridgewater Room.
GEO:-2.334487;53.484394
LOCATION:Eccles Parish Church
URL:https://www.achurchnearyou.com/church/15812/service-and-events/events/
 477545/
END:VEVENT
BEGIN:VEVENT
SUMMARY:Traditional Holy Communion
DTSTART;TZID=Europe/London:20270211T101500
DTEND;TZID=Europe/London:20270211T104500
DTSTAMP:20260422T150917Z
UID:4775452027-02-11 10:15:00+00:00achurchnearyou
CATEGORIES:
DESCRIPTION:Holy Communion in the nave of our historic Mediaeval church bu
 ilding followed by refreshments in the Bridgewater Room.
GEO:-2.334487;53.484394
LOCATION:Eccles Parish Church
URL:https://www.achurchnearyou.com/church/15812/service-and-events/events/
 477545/
END:VEVENT
BEGIN:VEVENT
SUMMARY:Traditional Holy Communion
DTSTART;TZID=Europe/London:20270218T101500
DTEND;TZID=Europe/London:20270218T104500
DTSTAMP:20260422T150917Z
UID:4775452027-02-18 10:15:00+00:00achurchnearyou
CATEGORIES:
DESCRIPTION:Holy Communion in the nave of our historic Mediaeval church bu
 ilding followed by refreshments in the Bridgewater Room.
GEO:-2.334487;53.484394
LOCATION:Eccles Parish Church
URL:https://www.achurchnearyou.com/church/15812/service-and-events/events/
 477545/
END:VEVENT
BEGIN:VEVENT
SUMMARY:Traditional Holy Communion
DTSTART;TZID=Europe/London:20270225T101500
DTEND;TZID=Europe/London:20270225T104500
DTSTAMP:20260422T150917Z
UID:4775452027-02-25 10:15:00+00:00achurchnearyou
CATEGORIES:
DESCRIPTION:Holy Communion in the nave of our historic Mediaeval church bu
 ilding followed by refreshments in the Bridgewater Room.
GEO:-2.334487;53.484394
LOCATION:Eccles Parish Church
URL:https://www.achurchnearyou.com/church/15812/service-and-events/events/
 477545/
END:VEVENT
BEGIN:VEVENT
SUMMARY:Traditional Holy Communion
DTSTART;TZID=Europe/London:20270304T101500
DTEND;TZID=Europe/London:20270304T104500
DTSTAMP:20260422T150917Z
UID:4775452027-03-04 10:15:00+00:00achurchnearyou
CATEGORIES:
DESCRIPTION:Holy Communion in the nave of our historic Mediaeval church bu
 ilding followed by refreshments in the Bridgewater Room.
GEO:-2.334487;53.484394
LOCATION:Eccles Parish Church
URL:https://www.achurchnearyou.com/church/15812/service-and-events/events/
 477545/
END:VEVENT
BEGIN:VEVENT
SUMMARY:Traditional Holy Communion
DTSTART;TZID=Europe/London:20270311T101500
DTEND;TZID=Europe/London:20270311T104500
DTSTAMP:20260422T150917Z
UID:4775452027-03-11 10:15:00+00:00achurchnearyou
CATEGORIES:
DESCRIPTION:Holy Communion in the nave of our historic Mediaeval church bu
 ilding followed by refreshments in the Bridgewater Room.
GEO:-2.334487;53.484394
LOCATION:Eccles Parish Church
URL:https://www.achurchnearyou.com/church/15812/service-and-events/events/
 477545/
END:VEVENT
BEGIN:VEVENT
SUMMARY:Traditional Holy Communion
DTSTART;TZID=Europe/London:20270318T101500
DTEND;TZID=Europe/London:20270318T104500
DTSTAMP:20260422T150917Z
UID:4775452027-03-18 10:15:00+00:00achurchnearyou
CATEGORIES:
DESCRIPTION:Holy Communion in the nave of our historic Mediaeval church bu
 ilding followed by refreshments in the Bridgewater Room.
GEO:-2.334487;53.484394
LOCATION:Eccles Parish Church
URL:https://www.achurchnearyou.com/church/15812/service-and-events/events/
 477545/
END:VEVENT
BEGIN:VEVENT
SUMMARY:Traditional Holy Communion
DTSTART;TZID=Europe/London:20270325T101500
DTEND;TZID=Europe/London:20270325T104500
DTSTAMP:20260422T150917Z
UID:4775452027-03-25 10:15:00+00:00achurchnearyou
CATEGORIES:
DESCRIPTION:Holy Communion in the nave of our historic Mediaeval church bu
 ilding followed by refreshments in the Bridgewater Room.
GEO:-2.334487;53.484394
LOCATION:Eccles Parish Church
URL:https://www.achurchnearyou.com/church/15812/service-and-events/events/
 477545/
END:VEVENT
BEGIN:VEVENT
SUMMARY:Traditional Holy Communion
DTSTART;TZID=Europe/London:20270401T101500
DTEND;TZID=Europe/London:20270401T104500
DTSTAMP:20260422T150917Z
UID:4775452027-04-01 10:15:00+01:00achurchnearyou
CATEGORIES:
DESCRIPTION:Holy Communion in the nave of our historic Mediaeval church bu
 ilding followed by refreshments in the Bridgewater Room.
GEO:-2.334487;53.484394
LOCATION:Eccles Parish Church
URL:https://www.achurchnearyou.com/church/15812/service-and-events/events/
 477545/
END:VEVENT
BEGIN:VEVENT
SUMMARY:Traditional Holy Communion
DTSTART;TZID=Europe/London:20270408T101500
DTEND;TZID=Europe/London:20270408T104500
DTSTAMP:20260422T150917Z
UID:4775452027-04-08 10:15:00+01:00achurchnearyou
CATEGORIES:
DESCRIPTION:Holy Communion in the nave of our historic Mediaeval church bu
 ilding followed by refreshments in the Bridgewater Room.
GEO:-2.334487;53.484394
LOCATION:Eccles Parish Church
URL:https://www.achurchnearyou.com/church/15812/service-and-events/events/
 477545/
END:VEVENT
BEGIN:VEVENT
SUMMARY:Traditional Holy Communion
DTSTART;TZID=Europe/London:20270415T101500
DTEND;TZID=Europe/London:20270415T104500
DTSTAMP:20260422T150917Z
UID:4775452027-04-15 10:15:00+01:00achurchnearyou
CATEGORIES:
DESCRIPTION:Holy Communion in the nave of our historic Mediaeval church bu
 ilding followed by refreshments in the Bridgewater Room.
GEO:-2.334487;53.484394
LOCATION:Eccles Parish Church
URL:https://www.achurchnearyou.com/church/15812/service-and-events/events/
 477545/
END:VEVENT
BEGIN:VEVENT
SUMMARY:Traditional Holy Communion
DTSTART;TZID=Europe/London:20270422T101500
DTEND;TZID=Europe/London:20270422T104500
DTSTAMP:20260422T150917Z
UID:4775452027-04-22 10:15:00+01:00achurchnearyou
CATEGORIES:
DESCRIPTION:Holy Communion in the nave of our historic Mediaeval church bu
 ilding followed by refreshments in the Bridgewater Room.
GEO:-2.334487;53.484394
LOCATION:Eccles Parish Church
URL:https://www.achurchnearyou.com/church/15812/service-and-events/events/
 477545/
END:VEVENT
END:VCALENDAR
