BEGIN:VCALENDAR
VERSION:2.0
PRODID:-//achurchnearyou.com//eventfeed//EN
CALSCALE:GREGORIAN
METHOD:PUBLISH
X-WR-TIMEZONE:UTC
BEGIN:VEVENT
SUMMARY:Palm Sunday of the Passion of the Lord
DTSTART:20260329T081500Z
DTEND:20260329T091500Z
DTSTAMP:20260423T052319Z
UID:13104402026-03-29 08:15:00+00:00achurchnearyou
CATEGORIES:
DESCRIPTION:A Palm Sunday Mass beginning outside the front door of the chu
 rch where the palm crosses will be blessed & then we will process into the
  church for the rest of the Mass. This will include a reading of the Passi
 on from Matthews Gospel
GEO:-2.367897;53.491211
LOCATION:St Mary Magdalene Church
URL:https://www.achurchnearyou.com/church/15821/service-and-events/events/
 1310440/
END:VEVENT
END:VCALENDAR
