BEGIN:VCALENDAR
VERSION:2.0
PRODID:-//achurchnearyou.com//eventfeed//EN
CALSCALE:GREGORIAN
METHOD:PUBLISH
X-WR-TIMEZONE:UTC
BEGIN:VEVENT
SUMMARY:Easter Sunday Mass
DTSTART:20260405T090000Z
DTEND:20260405T100000Z
DTSTAMP:20260423T052320Z
UID:13176942026-04-05 09:00:00+00:00achurchnearyou
CATEGORIES:
DESCRIPTION:A family friendly Eucharist that celebrates the Resurrection o
 f our Lord Jesus Christ. Easter eggs will be given out to all of the child
 ren present.
GEO:-2.367897;53.491211
LOCATION:St Mary Magdalene Church
URL:https://www.achurchnearyou.com/church/15821/service-and-events/events/
 1317694/
END:VEVENT
END:VCALENDAR
