BEGIN:VCALENDAR
VERSION:2.0
PRODID:-//achurchnearyou.com//eventfeed//EN
CALSCALE:GREGORIAN
METHOD:PUBLISH
X-WR-TIMEZONE:UTC
BEGIN:VEVENT
SUMMARY:Stations Of The Cross in Holy Week at Holy Rood Church
DTSTART:20250415T180000Z
DTEND:20250415T190000Z
DTSTAMP:20260421T225318Z
UID:11788092025-04-15 18:00:00+00:00achurchnearyou
CATEGORIES:
DESCRIPTION:On this Tuesday in Holy Week we meet at Holy Rood Church on Mo
 orside Road in Swinton at 7pm to remember the Stations Of The Cross ~ a qu
 iet and reflective time to recall Jesus' journey to Calvary
LOCATION:Holy Rood Swinton
URL:https://www.achurchnearyou.com/church/15822/service-and-events/events/
 1178809/
END:VEVENT
END:VCALENDAR
