BEGIN:VCALENDAR
VERSION:2.0
PRODID:-//achurchnearyou.com//eventfeed//EN
CALSCALE:GREGORIAN
METHOD:PUBLISH
X-WR-TIMEZONE:UTC
BEGIN:VEVENT
SUMMARY:Service Of Lessons And Carols 6:30pm Sunday 21st Dec 2025
DTSTART:20251221T183000Z
DTEND:20251221T193000Z
DTSTAMP:20260421T080023Z
UID:12558202025-12-21 18:30:00+00:00achurchnearyou
CATEGORIES:
DESCRIPTION:You are invited to join us for a traditional service of Christ
 mas readings and carols with special items from the choir which will be fo
 llowed by seasonal refreshments.
GEO:-2.38546;53.50254
LOCATION:St Mark's Church Worsley
URL:https://www.stmarksworsley.org.uk/
END:VEVENT
END:VCALENDAR
