BEGIN:VCALENDAR
VERSION:2.0
PRODID:-//achurchnearyou.com//eventfeed//EN
CALSCALE:GREGORIAN
METHOD:PUBLISH
X-WR-TIMEZONE:UTC
BEGIN:VEVENT
SUMMARY:Christmas Eve Midnight Communion
DTSTART:20251224T233000Z
DTEND:20251225T003000Z
DTSTAMP:20260421T080226Z
UID:4221732025-12-24 23:30:00+00:00achurchnearyou
CATEGORIES:
DESCRIPTION:Please join us in church for a traditional service of Midnight
  Communion starting at 11:30pm on Christmas Eve\, Wednesday 24th December 
 2025
GEO:-2.38546;53.50254
LOCATION:St Mark's Church Worsley
URL:https://www.stmarksworsley.org.uk
END:VEVENT
END:VCALENDAR
