BEGIN:VCALENDAR
VERSION:2.0
PRODID:-//achurchnearyou.com//eventfeed//EN
CALSCALE:GREGORIAN
METHOD:PUBLISH
X-WR-TIMEZONE:UTC
BEGIN:VEVENT
SUMMARY:Sunday Service - 4th Sunday
DTSTART:20251228T103000Z
DTEND:20251228T120000Z
DTSTAMP:20260422T140444Z
UID:12753682025-12-28 10:30:00+00:00achurchnearyou
CATEGORIES:
DESCRIPTION:Please note: there is usually a service at St. Andrew’s on t
 he 4th Sunday of the month but the service on 4th Sunday in December (28th
 ) will be held at St. Mary’s.\n\nChurch Cafe open from 9.45 a.m. Technol
 ogy permitting\, also available via Zoom.\n\nNB may be subject to change -
  please check St. Mary's Facebook pages.
LOCATION:St. Mary’s
URL:https://www.achurchnearyou.com/church/15825/service-and-events/events/
 1275368/
END:VEVENT
END:VCALENDAR
