BEGIN:VCALENDAR
VERSION:2.0
PRODID:-//achurchnearyou.com//eventfeed//EN
CALSCALE:GREGORIAN
METHOD:PUBLISH
X-WR-TIMEZONE:UTC
BEGIN:VEVENT
SUMMARY:Lessons and Carols
DTSTART:20251221T103000Z
DTEND:20251221T113000Z
DTSTAMP:20260423T195537Z
UID:12412652025-12-21 10:30:00+00:00achurchnearyou
CATEGORIES:
DESCRIPTION:Join us at St. Agnes for readings and familiar hymns as we pre
 pare for the approaching Christmas season!
GEO:-2.157204;53.452768
LOCATION:St Agnes
URL:https://www.achurchnearyou.com/church/15837/service-and-events/events/
 1241265/
END:VEVENT
END:VCALENDAR
