BEGIN:VCALENDAR
VERSION:2.0
PRODID:-//achurchnearyou.com//eventfeed//EN
CALSCALE:GREGORIAN
METHOD:PUBLISH
X-WR-TIMEZONE:UTC
BEGIN:VEVENT
SUMMARY:CHRISTINGLE!
DTSTART:20251224T160000Z
DTEND:20251224T170000Z
DTSTAMP:20260423T213136Z
UID:12412672025-12-24 16:00:00+00:00achurchnearyou
CATEGORIES:
DESCRIPTION:A traditional Christingle service full of fun for kids of all 
 ages!
GEO:-2.157204;53.452768
LOCATION:St Agnes
URL:https://www.achurchnearyou.com/church/15837/service-and-events/events/
 1241267/
END:VEVENT
END:VCALENDAR
