BEGIN:VCALENDAR
VERSION:2.0
PRODID:-//achurchnearyou.com//eventfeed//EN
CALSCALE:GREGORIAN
METHOD:PUBLISH
X-WR-TIMEZONE:UTC
BEGIN:VEVENT
SUMMARY:Joint Holy Eucharist at St. Mary's Reddish
DTSTART;TZID=Europe/London:20260208T103000
DTEND;TZID=Europe/London:20260208T113000
DTSTAMP:20260423T133418Z
UID:12832962026-02-08 10:30:00+00:00achurchnearyou
CATEGORIES:
DESCRIPTION:Join us at our sister parish St. Mary's for Holy Communion wit
 h Music
LOCATION:St Mary's Church
URL:https://www.achurchnearyou.com/church/15838/service-and-events/events/
 1283296/
END:VEVENT
END:VCALENDAR
