BEGIN:VCALENDAR
VERSION:2.0
PRODID:-//achurchnearyou.com//eventfeed//EN
CALSCALE:GREGORIAN
METHOD:PUBLISH
X-WR-TIMEZONE:UTC
BEGIN:VEVENT
SUMMARY:Social Sunday
DTSTART;TZID=Europe/London:20260503T113000
DTEND;TZID=Europe/London:20260503T123000
DTSTAMP:20260423T022407Z
UID:11971882026-05-03 11:30:00+01:00achurchnearyou
CATEGORIES:
DESCRIPTION:Takes place on the first Sunday of each month. We bring food t
 o share and enjoy a meal together after Sanctuary service.
GEO:-2.250105142593384;53.46741844655606
LOCATION:Ascension Church\, Hulme
URL:https://www.achurchnearyou.com/church/15845/service-and-events/events/
 1197188/
END:VEVENT
BEGIN:VEVENT
SUMMARY:Social Sunday
DTSTART;TZID=Europe/London:20260607T113000
DTEND;TZID=Europe/London:20260607T123000
DTSTAMP:20260423T022407Z
UID:11971882026-06-07 11:30:00+01:00achurchnearyou
CATEGORIES:
DESCRIPTION:Takes place on the first Sunday of each month. We bring food t
 o share and enjoy a meal together after Sanctuary service.
GEO:-2.250105142593384;53.46741844655606
LOCATION:Ascension Church\, Hulme
URL:https://www.achurchnearyou.com/church/15845/service-and-events/events/
 1197188/
END:VEVENT
BEGIN:VEVENT
SUMMARY:Social Sunday
DTSTART;TZID=Europe/London:20260705T113000
DTEND;TZID=Europe/London:20260705T123000
DTSTAMP:20260423T022407Z
UID:11971882026-07-05 11:30:00+01:00achurchnearyou
CATEGORIES:
DESCRIPTION:Takes place on the first Sunday of each month. We bring food t
 o share and enjoy a meal together after Sanctuary service.
GEO:-2.250105142593384;53.46741844655606
LOCATION:Ascension Church\, Hulme
URL:https://www.achurchnearyou.com/church/15845/service-and-events/events/
 1197188/
END:VEVENT
BEGIN:VEVENT
SUMMARY:Social Sunday
DTSTART;TZID=Europe/London:20260802T113000
DTEND;TZID=Europe/London:20260802T123000
DTSTAMP:20260423T022407Z
UID:11971882026-08-02 11:30:00+01:00achurchnearyou
CATEGORIES:
DESCRIPTION:Takes place on the first Sunday of each month. We bring food t
 o share and enjoy a meal together after Sanctuary service.
GEO:-2.250105142593384;53.46741844655606
LOCATION:Ascension Church\, Hulme
URL:https://www.achurchnearyou.com/church/15845/service-and-events/events/
 1197188/
END:VEVENT
BEGIN:VEVENT
SUMMARY:Social Sunday
DTSTART;TZID=Europe/London:20260906T113000
DTEND;TZID=Europe/London:20260906T123000
DTSTAMP:20260423T022407Z
UID:11971882026-09-06 11:30:00+01:00achurchnearyou
CATEGORIES:
DESCRIPTION:Takes place on the first Sunday of each month. We bring food t
 o share and enjoy a meal together after Sanctuary service.
GEO:-2.250105142593384;53.46741844655606
LOCATION:Ascension Church\, Hulme
URL:https://www.achurchnearyou.com/church/15845/service-and-events/events/
 1197188/
END:VEVENT
BEGIN:VEVENT
SUMMARY:Social Sunday
DTSTART;TZID=Europe/London:20261004T113000
DTEND;TZID=Europe/London:20261004T123000
DTSTAMP:20260423T022407Z
UID:11971882026-10-04 11:30:00+01:00achurchnearyou
CATEGORIES:
DESCRIPTION:Takes place on the first Sunday of each month. We bring food t
 o share and enjoy a meal together after Sanctuary service.
GEO:-2.250105142593384;53.46741844655606
LOCATION:Ascension Church\, Hulme
URL:https://www.achurchnearyou.com/church/15845/service-and-events/events/
 1197188/
END:VEVENT
BEGIN:VEVENT
SUMMARY:Social Sunday
DTSTART;TZID=Europe/London:20261101T113000
DTEND;TZID=Europe/London:20261101T123000
DTSTAMP:20260423T022407Z
UID:11971882026-11-01 11:30:00+00:00achurchnearyou
CATEGORIES:
DESCRIPTION:Takes place on the first Sunday of each month. We bring food t
 o share and enjoy a meal together after Sanctuary service.
GEO:-2.250105142593384;53.46741844655606
LOCATION:Ascension Church\, Hulme
URL:https://www.achurchnearyou.com/church/15845/service-and-events/events/
 1197188/
END:VEVENT
BEGIN:VEVENT
SUMMARY:Social Sunday
DTSTART;TZID=Europe/London:20261206T113000
DTEND;TZID=Europe/London:20261206T123000
DTSTAMP:20260423T022407Z
UID:11971882026-12-06 11:30:00+00:00achurchnearyou
CATEGORIES:
DESCRIPTION:Takes place on the first Sunday of each month. We bring food t
 o share and enjoy a meal together after Sanctuary service.
GEO:-2.250105142593384;53.46741844655606
LOCATION:Ascension Church\, Hulme
URL:https://www.achurchnearyou.com/church/15845/service-and-events/events/
 1197188/
END:VEVENT
BEGIN:VEVENT
SUMMARY:Social Sunday
DTSTART;TZID=Europe/London:20270103T113000
DTEND;TZID=Europe/London:20270103T123000
DTSTAMP:20260423T022407Z
UID:11971882027-01-03 11:30:00+00:00achurchnearyou
CATEGORIES:
DESCRIPTION:Takes place on the first Sunday of each month. We bring food t
 o share and enjoy a meal together after Sanctuary service.
GEO:-2.250105142593384;53.46741844655606
LOCATION:Ascension Church\, Hulme
URL:https://www.achurchnearyou.com/church/15845/service-and-events/events/
 1197188/
END:VEVENT
BEGIN:VEVENT
SUMMARY:Social Sunday
DTSTART;TZID=Europe/London:20270207T113000
DTEND;TZID=Europe/London:20270207T123000
DTSTAMP:20260423T022407Z
UID:11971882027-02-07 11:30:00+00:00achurchnearyou
CATEGORIES:
DESCRIPTION:Takes place on the first Sunday of each month. We bring food t
 o share and enjoy a meal together after Sanctuary service.
GEO:-2.250105142593384;53.46741844655606
LOCATION:Ascension Church\, Hulme
URL:https://www.achurchnearyou.com/church/15845/service-and-events/events/
 1197188/
END:VEVENT
BEGIN:VEVENT
SUMMARY:Social Sunday
DTSTART;TZID=Europe/London:20270307T113000
DTEND;TZID=Europe/London:20270307T123000
DTSTAMP:20260423T022407Z
UID:11971882027-03-07 11:30:00+00:00achurchnearyou
CATEGORIES:
DESCRIPTION:Takes place on the first Sunday of each month. We bring food t
 o share and enjoy a meal together after Sanctuary service.
GEO:-2.250105142593384;53.46741844655606
LOCATION:Ascension Church\, Hulme
URL:https://www.achurchnearyou.com/church/15845/service-and-events/events/
 1197188/
END:VEVENT
BEGIN:VEVENT
SUMMARY:Social Sunday
DTSTART;TZID=Europe/London:20270404T113000
DTEND;TZID=Europe/London:20270404T123000
DTSTAMP:20260423T022407Z
UID:11971882027-04-04 11:30:00+01:00achurchnearyou
CATEGORIES:
DESCRIPTION:Takes place on the first Sunday of each month. We bring food t
 o share and enjoy a meal together after Sanctuary service.
GEO:-2.250105142593384;53.46741844655606
LOCATION:Ascension Church\, Hulme
URL:https://www.achurchnearyou.com/church/15845/service-and-events/events/
 1197188/
END:VEVENT
END:VCALENDAR
