BEGIN:VCALENDAR
VERSION:2.0
PRODID:-//achurchnearyou.com//eventfeed//EN
CALSCALE:GREGORIAN
METHOD:PUBLISH
X-WR-TIMEZONE:UTC
BEGIN:VEVENT
SUMMARY:Advent Conversations: Part One [Repeat]
DTSTART;TZID=Europe/London:20251204T163000
DTEND;TZID=Europe/London:20251204T173000
DTSTAMP:20260423T223954Z
UID:12622062025-12-04 16:30:00+00:00achurchnearyou
CATEGORIES:
DESCRIPTION:Discussion: What ‘pasts’ of faith and activism are importa
 nt to remember in the present?
GEO:-2.250105142593384;53.46741844655606
LOCATION:Ascension Church\, Hulme
URL:https://www.achurchnearyou.com/church/15845/service-and-events/events/
 1262206/
END:VEVENT
END:VCALENDAR
