BEGIN:VCALENDAR
VERSION:2.0
PRODID:-//achurchnearyou.com//eventfeed//EN
CALSCALE:GREGORIAN
METHOD:PUBLISH
X-WR-TIMEZONE:UTC
BEGIN:VEVENT
SUMMARY:Advent Conversations: Part Three
DTSTART:20251214T103000Z
DTEND:20251214T113000Z
DTSTAMP:20260423T192739Z
UID:12646212025-12-14 10:30:00+00:00achurchnearyou
CATEGORIES:
DESCRIPTION:Discussion: How can we imagine different ways of living and be
 ing together?
GEO:-2.250105142593384;53.46741844655606
LOCATION:Ascension Church\, Hulme
URL:https://www.achurchnearyou.com/church/15845/service-and-events/events/
 1264621/
END:VEVENT
END:VCALENDAR
