BEGIN:VCALENDAR
VERSION:2.0
PRODID:-//achurchnearyou.com//eventfeed//EN
CALSCALE:GREGORIAN
METHOD:PUBLISH
X-WR-TIMEZONE:UTC
BEGIN:VEVENT
SUMMARY:Advent Conversations: Part Three (Repeat)
DTSTART:20251218T163000Z
DTEND:20251218T173000Z
DTSTAMP:20260424T014722Z
UID:12646652025-12-18 16:30:00+00:00achurchnearyou
CATEGORIES:
DESCRIPTION:Discussion: How can we imagine different ways of living and be
 ing together?
GEO:-2.250105142593384;53.46741844655606
LOCATION:Ascension Church\, Hulme
URL:https://www.achurchnearyou.com/church/15845/service-and-events/events/
 1264665/
END:VEVENT
END:VCALENDAR
