BEGIN:VCALENDAR
VERSION:2.0
PRODID:-//achurchnearyou.com//eventfeed//EN
CALSCALE:GREGORIAN
METHOD:PUBLISH
X-WR-TIMEZONE:UTC
BEGIN:VEVENT
SUMMARY:Holocaust Memorial Day Vigil
DTSTART:20250127T150000Z
DTEND:20250127T160000Z
DTSTAMP:20260419T181827Z
UID:11515452025-01-27 15:00:00+00:00achurchnearyou
CATEGORIES:
DESCRIPTION:St Paul’s Church Monday 27 January 3-4pm : Holocaust Memoria
 l Day Vigil for the 80th anniversary of the liberation of\nAuschwitz
GEO:-2.272281;53.514899
LOCATION:St Paul's Church\, Kersal Moor
URL:https://www.achurchnearyou.com/church/15877/service-and-events/events/
 1151545/
END:VEVENT
END:VCALENDAR
