BEGIN:VCALENDAR
VERSION:2.0
PRODID:-//achurchnearyou.com//eventfeed//EN
CALSCALE:GREGORIAN
METHOD:PUBLISH
X-WR-TIMEZONE:UTC
BEGIN:VEVENT
SUMMARY:Midnight Mass
DTSTART:20251224T233000Z
DTEND:20251225T003000Z
DTSTAMP:20260421T083908Z
UID:12691762025-12-24 23:30:00+00:00achurchnearyou
CATEGORIES:
DESCRIPTION:Please do come and celebrate the joy of the first Holy Communi
 on of Christmas at St Thomas's church.
GEO:-2.285757;53.492105
LOCATION:St Thomas' Pendleton (Pengy) Church
URL:https://www.achurchnearyou.com/church/15883/service-and-events/events/
 1269176/
END:VEVENT
END:VCALENDAR
