BEGIN:VCALENDAR
VERSION:2.0
PRODID:-//achurchnearyou.com//eventfeed//EN
CALSCALE:GREGORIAN
METHOD:PUBLISH
X-WR-TIMEZONE:UTC
BEGIN:VEVENT
SUMMARY:Carol Service
DTSTART:20251221T160000Z
DTEND:20251221T170000Z
DTSTAMP:20260421T085933Z
UID:12691802025-12-21 16:00:00+00:00achurchnearyou
CATEGORIES:
DESCRIPTION:Nine lessons and Carols.\nHear readings from the Bible which t
 ake us from the fall of humanity to the birth of Jesus Christ\, broken up 
 with traditional carols accompanied by our Choir and organ.
GEO:-2.285757;53.492105
LOCATION:St Thomas' Pendleton (Pengy) Church
URL:https://www.achurchnearyou.com/church/15883/service-and-events/events/
 1269180/
END:VEVENT
END:VCALENDAR
