BEGIN:VCALENDAR
VERSION:2.0
PRODID:-//achurchnearyou.com//eventfeed//EN
CALSCALE:GREGORIAN
METHOD:PUBLISH
X-WR-TIMEZONE:UTC
BEGIN:VEVENT
SUMMARY:Crib Service
DTSTART:20251224T150000Z
DTEND:20251224T160000Z
DTSTAMP:20260421T090134Z
UID:12697502025-12-24 15:00:00+00:00achurchnearyou
CATEGORIES:
DESCRIPTION:Come along to this wonderful service for children of all ages 
 (2 to 92) and enjoy the wonder of the birth of Jesus.
GEO:-2.285757;53.492105
LOCATION:St Thomas' Pendleton (Pengy) Church
URL:https://www.achurchnearyou.com/church/15883/service-and-events/events/
 1269750/
END:VEVENT
END:VCALENDAR
