BEGIN:VCALENDAR
VERSION:2.0
PRODID:-//achurchnearyou.com//eventfeed//EN
CALSCALE:GREGORIAN
METHOD:PUBLISH
X-WR-TIMEZONE:UTC
BEGIN:VEVENT
SUMMARY:Lent Course
DTSTART;TZID=Europe/London:20250306T183000
DTEND;TZID=Europe/London:20250306T193000
DTSTAMP:20260422T214053Z
UID:11563732025-03-06 18:30:00+00:00achurchnearyou
CATEGORIES:
DESCRIPTION:Join us as we explore unanswered prayer with the 24/7 prayer c
 ourse.
GEO:-2.302269;53.483941
LOCATION:St Luke w All Saints\, Weaste “the Church on the hill”
URL:https://www.achurchnearyou.com/church/15888/service-and-events/events/
 1156373/
END:VEVENT
BEGIN:VEVENT
SUMMARY:Lent Course
DTSTART;TZID=Europe/London:20250313T183000
DTEND;TZID=Europe/London:20250313T193000
DTSTAMP:20260422T214053Z
UID:11563732025-03-13 18:30:00+00:00achurchnearyou
CATEGORIES:
DESCRIPTION:Join us as we explore unanswered prayer with the 24/7 prayer c
 ourse.
GEO:-2.302269;53.483941
LOCATION:St Luke w All Saints\, Weaste “the Church on the hill”
URL:https://www.achurchnearyou.com/church/15888/service-and-events/events/
 1156373/
END:VEVENT
BEGIN:VEVENT
SUMMARY:Lent Course
DTSTART;TZID=Europe/London:20250320T183000
DTEND;TZID=Europe/London:20250320T193000
DTSTAMP:20260422T214053Z
UID:11563732025-03-20 18:30:00+00:00achurchnearyou
CATEGORIES:
DESCRIPTION:Join us as we explore unanswered prayer with the 24/7 prayer c
 ourse.
GEO:-2.302269;53.483941
LOCATION:St Luke w All Saints\, Weaste “the Church on the hill”
URL:https://www.achurchnearyou.com/church/15888/service-and-events/events/
 1156373/
END:VEVENT
BEGIN:VEVENT
SUMMARY:Lent Course
DTSTART;TZID=Europe/London:20250327T183000
DTEND;TZID=Europe/London:20250327T193000
DTSTAMP:20260422T214053Z
UID:11563732025-03-27 18:30:00+00:00achurchnearyou
CATEGORIES:
DESCRIPTION:Join us as we explore unanswered prayer with the 24/7 prayer c
 ourse.
GEO:-2.302269;53.483941
LOCATION:St Luke w All Saints\, Weaste “the Church on the hill”
URL:https://www.achurchnearyou.com/church/15888/service-and-events/events/
 1156373/
END:VEVENT
BEGIN:VEVENT
SUMMARY:Lent Course
DTSTART;TZID=Europe/London:20250403T183000
DTEND;TZID=Europe/London:20250403T193000
DTSTAMP:20260422T214053Z
UID:11563732025-04-03 18:30:00+01:00achurchnearyou
CATEGORIES:
DESCRIPTION:Join us as we explore unanswered prayer with the 24/7 prayer c
 ourse.
GEO:-2.302269;53.483941
LOCATION:St Luke w All Saints\, Weaste “the Church on the hill”
URL:https://www.achurchnearyou.com/church/15888/service-and-events/events/
 1156373/
END:VEVENT
BEGIN:VEVENT
SUMMARY:Lent Course
DTSTART;TZID=Europe/London:20250410T183000
DTEND;TZID=Europe/London:20250410T193000
DTSTAMP:20260422T214053Z
UID:11563732025-04-10 18:30:00+01:00achurchnearyou
CATEGORIES:
DESCRIPTION:Join us as we explore unanswered prayer with the 24/7 prayer c
 ourse.
GEO:-2.302269;53.483941
LOCATION:St Luke w All Saints\, Weaste “the Church on the hill”
URL:https://www.achurchnearyou.com/church/15888/service-and-events/events/
 1156373/
END:VEVENT
END:VCALENDAR
