BEGIN:VCALENDAR
VERSION:2.0
PRODID:-//achurchnearyou.com//eventfeed//EN
CALSCALE:GREGORIAN
METHOD:PUBLISH
X-WR-TIMEZONE:UTC
BEGIN:VEVENT
SUMMARY:Harvest Sunday
DTSTART:20251005T083000Z
DTEND:20251005T100000Z
DTSTAMP:20260422T103259Z
UID:12244882025-10-05 08:30:00+00:00achurchnearyou
CATEGORIES:
DESCRIPTION:It's harvest time.  \nWhat is harvest?  Come and join us to fi
 nd out and bring a donation to the local foodbank with you.\nShare breakfa
 st with us @ 9:30am and then stay for the service @10am
GEO:-2.302269;53.483941
LOCATION:St Luke w All Saints\, Weaste “the Church on the hill”
URL:https://www.achurchnearyou.com/church/15888/service-and-events/events/
 1224488/
END:VEVENT
END:VCALENDAR
