BEGIN:VCALENDAR
VERSION:2.0
PRODID:-//achurchnearyou.com//eventfeed//EN
CALSCALE:GREGORIAN
METHOD:PUBLISH
X-WR-TIMEZONE:UTC
BEGIN:VEVENT
SUMMARY:9 Lessons and Carols
DTSTART:20251221T180000Z
DTEND:20251221T193000Z
DTSTAMP:20260420T063007Z
UID:12629562025-12-21 18:00:00+00:00achurchnearyou
CATEGORIES:
DESCRIPTION:If you love singing carols this is for you.  \nWe hear reading
 s from the Bible which take us from the fall of humanity to the birth of J
 esus\, broken up with traditional carols accompanied by our amazing organ.
GEO:-2.302269;53.483941
LOCATION:St Luke w All Saints\, Weaste “the Church on the hill”
URL:https://www.achurchnearyou.com/church/15888/service-and-events/events/
 1262956/
END:VEVENT
END:VCALENDAR
