BEGIN:VCALENDAR
VERSION:2.0
PRODID:-//achurchnearyou.com//eventfeed//EN
CALSCALE:GREGORIAN
METHOD:PUBLISH
X-WR-TIMEZONE:UTC
BEGIN:VEVENT
SUMMARY:Alpha Course
DTSTART;TZID=Europe/London:20260305T130000
DTEND;TZID=Europe/London:20260305T143000
DTSTAMP:20260419T154237Z
UID:12937022026-03-05 13:00:00+00:00achurchnearyou
CATEGORIES:
DESCRIPTION:Ever wondered about Jesus but didn't know where to start?  \nH
 ave you been to church lots but still feel something is missing?\nIs there
  more to life than what you are experiencing today?\nJoin us on Alpha as w
 e look to find the answers to these and many more questions.
LOCATION:The Lifecentre
URL:https://www.achurchnearyou.com/church/15888/service-and-events/events/
 1293702/
END:VEVENT
BEGIN:VEVENT
SUMMARY:Alpha Course
DTSTART;TZID=Europe/London:20260312T130000
DTEND;TZID=Europe/London:20260312T143000
DTSTAMP:20260419T154237Z
UID:12937022026-03-12 13:00:00+00:00achurchnearyou
CATEGORIES:
DESCRIPTION:Ever wondered about Jesus but didn't know where to start?  \nH
 ave you been to church lots but still feel something is missing?\nIs there
  more to life than what you are experiencing today?\nJoin us on Alpha as w
 e look to find the answers to these and many more questions.
LOCATION:The Lifecentre
URL:https://www.achurchnearyou.com/church/15888/service-and-events/events/
 1293702/
END:VEVENT
BEGIN:VEVENT
SUMMARY:Alpha Course
DTSTART;TZID=Europe/London:20260319T130000
DTEND;TZID=Europe/London:20260319T143000
DTSTAMP:20260419T154237Z
UID:12937022026-03-19 13:00:00+00:00achurchnearyou
CATEGORIES:
DESCRIPTION:Ever wondered about Jesus but didn't know where to start?  \nH
 ave you been to church lots but still feel something is missing?\nIs there
  more to life than what you are experiencing today?\nJoin us on Alpha as w
 e look to find the answers to these and many more questions.
LOCATION:The Lifecentre
URL:https://www.achurchnearyou.com/church/15888/service-and-events/events/
 1293702/
END:VEVENT
BEGIN:VEVENT
SUMMARY:Alpha Course
DTSTART;TZID=Europe/London:20260326T130000
DTEND;TZID=Europe/London:20260326T143000
DTSTAMP:20260419T154237Z
UID:12937022026-03-26 13:00:00+00:00achurchnearyou
CATEGORIES:
DESCRIPTION:Ever wondered about Jesus but didn't know where to start?  \nH
 ave you been to church lots but still feel something is missing?\nIs there
  more to life than what you are experiencing today?\nJoin us on Alpha as w
 e look to find the answers to these and many more questions.
LOCATION:The Lifecentre
URL:https://www.achurchnearyou.com/church/15888/service-and-events/events/
 1293702/
END:VEVENT
BEGIN:VEVENT
SUMMARY:Alpha Course
DTSTART;TZID=Europe/London:20260402T130000
DTEND;TZID=Europe/London:20260402T143000
DTSTAMP:20260419T154237Z
UID:12937022026-04-02 13:00:00+01:00achurchnearyou
CATEGORIES:
DESCRIPTION:Ever wondered about Jesus but didn't know where to start?  \nH
 ave you been to church lots but still feel something is missing?\nIs there
  more to life than what you are experiencing today?\nJoin us on Alpha as w
 e look to find the answers to these and many more questions.
LOCATION:The Lifecentre
URL:https://www.achurchnearyou.com/church/15888/service-and-events/events/
 1293702/
END:VEVENT
BEGIN:VEVENT
SUMMARY:Alpha Course
DTSTART;TZID=Europe/London:20260409T130000
DTEND;TZID=Europe/London:20260409T143000
DTSTAMP:20260419T154237Z
UID:12937022026-04-09 13:00:00+01:00achurchnearyou
CATEGORIES:
DESCRIPTION:Ever wondered about Jesus but didn't know where to start?  \nH
 ave you been to church lots but still feel something is missing?\nIs there
  more to life than what you are experiencing today?\nJoin us on Alpha as w
 e look to find the answers to these and many more questions.
LOCATION:The Lifecentre
URL:https://www.achurchnearyou.com/church/15888/service-and-events/events/
 1293702/
END:VEVENT
BEGIN:VEVENT
SUMMARY:Alpha Course
DTSTART;TZID=Europe/London:20260416T130000
DTEND;TZID=Europe/London:20260416T143000
DTSTAMP:20260419T154237Z
UID:12937022026-04-16 13:00:00+01:00achurchnearyou
CATEGORIES:
DESCRIPTION:Ever wondered about Jesus but didn't know where to start?  \nH
 ave you been to church lots but still feel something is missing?\nIs there
  more to life than what you are experiencing today?\nJoin us on Alpha as w
 e look to find the answers to these and many more questions.
LOCATION:The Lifecentre
URL:https://www.achurchnearyou.com/church/15888/service-and-events/events/
 1293702/
END:VEVENT
BEGIN:VEVENT
SUMMARY:Alpha Course
DTSTART;TZID=Europe/London:20260423T130000
DTEND;TZID=Europe/London:20260423T143000
DTSTAMP:20260419T154237Z
UID:12937022026-04-23 13:00:00+01:00achurchnearyou
CATEGORIES:
DESCRIPTION:Ever wondered about Jesus but didn't know where to start?  \nH
 ave you been to church lots but still feel something is missing?\nIs there
  more to life than what you are experiencing today?\nJoin us on Alpha as w
 e look to find the answers to these and many more questions.
LOCATION:The Lifecentre
URL:https://www.achurchnearyou.com/church/15888/service-and-events/events/
 1293702/
END:VEVENT
BEGIN:VEVENT
SUMMARY:Alpha Course
DTSTART;TZID=Europe/London:20260430T130000
DTEND;TZID=Europe/London:20260430T143000
DTSTAMP:20260419T154237Z
UID:12937022026-04-30 13:00:00+01:00achurchnearyou
CATEGORIES:
DESCRIPTION:Ever wondered about Jesus but didn't know where to start?  \nH
 ave you been to church lots but still feel something is missing?\nIs there
  more to life than what you are experiencing today?\nJoin us on Alpha as w
 e look to find the answers to these and many more questions.
LOCATION:The Lifecentre
URL:https://www.achurchnearyou.com/church/15888/service-and-events/events/
 1293702/
END:VEVENT
END:VCALENDAR
