BEGIN:VCALENDAR
VERSION:2.0
PRODID:-//achurchnearyou.com//eventfeed//EN
CALSCALE:GREGORIAN
METHOD:PUBLISH
X-WR-TIMEZONE:UTC
BEGIN:VEVENT
SUMMARY:Bible Study
DTSTART;TZID=Europe/London:20251022T133000
DTEND;TZID=Europe/London:20251022T143000
DTSTAMP:20260422T173829Z
UID:12346962025-10-22 13:30:00+01:00achurchnearyou
CATEGORIES:
DESCRIPTION:A Bible Study group exploring 'What's new about the New Testam
 ent.'  This takes place every 2nd and 4th Wednesdays of the month between 
 1.30 p.m. and 2.30 p.m. inside The Croft at St Michael's Church.
GEO:-2.382086;53.442027
LOCATION:St Michael's Church
URL:https://www.achurchnearyou.com/church/15892/service-and-events/events/
 1234696/
END:VEVENT
BEGIN:VEVENT
SUMMARY:Bible Study
DTSTART;TZID=Europe/London:20251112T133000
DTEND;TZID=Europe/London:20251112T143000
DTSTAMP:20260422T173829Z
UID:12346962025-11-12 13:30:00+00:00achurchnearyou
CATEGORIES:
DESCRIPTION:A Bible Study group exploring 'What's new about the New Testam
 ent.'  This takes place every 2nd and 4th Wednesdays of the month between 
 1.30 p.m. and 2.30 p.m. inside The Croft at St Michael's Church.
GEO:-2.382086;53.442027
LOCATION:St Michael's Church
URL:https://www.achurchnearyou.com/church/15892/service-and-events/events/
 1234696/
END:VEVENT
BEGIN:VEVENT
SUMMARY:Bible Study
DTSTART;TZID=Europe/London:20251126T133000
DTEND;TZID=Europe/London:20251126T143000
DTSTAMP:20260422T173829Z
UID:12346962025-11-26 13:30:00+00:00achurchnearyou
CATEGORIES:
DESCRIPTION:A Bible Study group exploring 'What's new about the New Testam
 ent.'  This takes place every 2nd and 4th Wednesdays of the month between 
 1.30 p.m. and 2.30 p.m. inside The Croft at St Michael's Church.
GEO:-2.382086;53.442027
LOCATION:St Michael's Church
URL:https://www.achurchnearyou.com/church/15892/service-and-events/events/
 1234696/
END:VEVENT
BEGIN:VEVENT
SUMMARY:Bible Study
DTSTART;TZID=Europe/London:20251210T133000
DTEND;TZID=Europe/London:20251210T143000
DTSTAMP:20260422T173829Z
UID:12346962025-12-10 13:30:00+00:00achurchnearyou
CATEGORIES:
DESCRIPTION:A Bible Study group exploring 'What's new about the New Testam
 ent.'  This takes place every 2nd and 4th Wednesdays of the month between 
 1.30 p.m. and 2.30 p.m. inside The Croft at St Michael's Church.
GEO:-2.382086;53.442027
LOCATION:St Michael's Church
URL:https://www.achurchnearyou.com/church/15892/service-and-events/events/
 1234696/
END:VEVENT
BEGIN:VEVENT
SUMMARY:Bible Study
DTSTART;TZID=Europe/London:20251224T133000
DTEND;TZID=Europe/London:20251224T143000
DTSTAMP:20260422T173829Z
UID:12346962025-12-24 13:30:00+00:00achurchnearyou
CATEGORIES:
DESCRIPTION:A Bible Study group exploring 'What's new about the New Testam
 ent.'  This takes place every 2nd and 4th Wednesdays of the month between 
 1.30 p.m. and 2.30 p.m. inside The Croft at St Michael's Church.
GEO:-2.382086;53.442027
LOCATION:St Michael's Church
URL:https://www.achurchnearyou.com/church/15892/service-and-events/events/
 1234696/
END:VEVENT
BEGIN:VEVENT
SUMMARY:Bible Study
DTSTART;TZID=Europe/London:20260114T133000
DTEND;TZID=Europe/London:20260114T143000
DTSTAMP:20260422T173829Z
UID:12346962026-01-14 13:30:00+00:00achurchnearyou
CATEGORIES:
DESCRIPTION:A Bible Study group exploring 'What's new about the New Testam
 ent.'  This takes place every 2nd and 4th Wednesdays of the month between 
 1.30 p.m. and 2.30 p.m. inside The Croft at St Michael's Church.
GEO:-2.382086;53.442027
LOCATION:St Michael's Church
URL:https://www.achurchnearyou.com/church/15892/service-and-events/events/
 1234696/
END:VEVENT
BEGIN:VEVENT
SUMMARY:Bible Study
DTSTART;TZID=Europe/London:20260128T133000
DTEND;TZID=Europe/London:20260128T143000
DTSTAMP:20260422T173829Z
UID:12346962026-01-28 13:30:00+00:00achurchnearyou
CATEGORIES:
DESCRIPTION:A Bible Study group exploring 'What's new about the New Testam
 ent.'  This takes place every 2nd and 4th Wednesdays of the month between 
 1.30 p.m. and 2.30 p.m. inside The Croft at St Michael's Church.
GEO:-2.382086;53.442027
LOCATION:St Michael's Church
URL:https://www.achurchnearyou.com/church/15892/service-and-events/events/
 1234696/
END:VEVENT
BEGIN:VEVENT
SUMMARY:Bible Study
DTSTART;TZID=Europe/London:20260211T133000
DTEND;TZID=Europe/London:20260211T143000
DTSTAMP:20260422T173829Z
UID:12346962026-02-11 13:30:00+00:00achurchnearyou
CATEGORIES:
DESCRIPTION:A Bible Study group exploring 'What's new about the New Testam
 ent.'  This takes place every 2nd and 4th Wednesdays of the month between 
 1.30 p.m. and 2.30 p.m. inside The Croft at St Michael's Church.
GEO:-2.382086;53.442027
LOCATION:St Michael's Church
URL:https://www.achurchnearyou.com/church/15892/service-and-events/events/
 1234696/
END:VEVENT
BEGIN:VEVENT
SUMMARY:Bible Study
DTSTART;TZID=Europe/London:20260225T133000
DTEND;TZID=Europe/London:20260225T143000
DTSTAMP:20260422T173829Z
UID:12346962026-02-25 13:30:00+00:00achurchnearyou
CATEGORIES:
DESCRIPTION:A Bible Study group exploring 'What's new about the New Testam
 ent.'  This takes place every 2nd and 4th Wednesdays of the month between 
 1.30 p.m. and 2.30 p.m. inside The Croft at St Michael's Church.
GEO:-2.382086;53.442027
LOCATION:St Michael's Church
URL:https://www.achurchnearyou.com/church/15892/service-and-events/events/
 1234696/
END:VEVENT
BEGIN:VEVENT
SUMMARY:Bible Study
DTSTART;TZID=Europe/London:20260311T133000
DTEND;TZID=Europe/London:20260311T143000
DTSTAMP:20260422T173829Z
UID:12346962026-03-11 13:30:00+00:00achurchnearyou
CATEGORIES:
DESCRIPTION:A Bible Study group exploring 'What's new about the New Testam
 ent.'  This takes place every 2nd and 4th Wednesdays of the month between 
 1.30 p.m. and 2.30 p.m. inside The Croft at St Michael's Church.
GEO:-2.382086;53.442027
LOCATION:St Michael's Church
URL:https://www.achurchnearyou.com/church/15892/service-and-events/events/
 1234696/
END:VEVENT
BEGIN:VEVENT
SUMMARY:Bible Study
DTSTART;TZID=Europe/London:20260325T133000
DTEND;TZID=Europe/London:20260325T143000
DTSTAMP:20260422T173829Z
UID:12346962026-03-25 13:30:00+00:00achurchnearyou
CATEGORIES:
DESCRIPTION:A Bible Study group exploring 'What's new about the New Testam
 ent.'  This takes place every 2nd and 4th Wednesdays of the month between 
 1.30 p.m. and 2.30 p.m. inside The Croft at St Michael's Church.
GEO:-2.382086;53.442027
LOCATION:St Michael's Church
URL:https://www.achurchnearyou.com/church/15892/service-and-events/events/
 1234696/
END:VEVENT
BEGIN:VEVENT
SUMMARY:Bible Study
DTSTART;TZID=Europe/London:20260408T133000
DTEND;TZID=Europe/London:20260408T143000
DTSTAMP:20260422T173829Z
UID:12346962026-04-08 13:30:00+01:00achurchnearyou
CATEGORIES:
DESCRIPTION:A Bible Study group exploring 'What's new about the New Testam
 ent.'  This takes place every 2nd and 4th Wednesdays of the month between 
 1.30 p.m. and 2.30 p.m. inside The Croft at St Michael's Church.
GEO:-2.382086;53.442027
LOCATION:St Michael's Church
URL:https://www.achurchnearyou.com/church/15892/service-and-events/events/
 1234696/
END:VEVENT
BEGIN:VEVENT
SUMMARY:Bible Study
DTSTART;TZID=Europe/London:20260422T133000
DTEND;TZID=Europe/London:20260422T143000
DTSTAMP:20260422T173829Z
UID:12346962026-04-22 13:30:00+01:00achurchnearyou
CATEGORIES:
DESCRIPTION:A Bible Study group exploring 'What's new about the New Testam
 ent.'  This takes place every 2nd and 4th Wednesdays of the month between 
 1.30 p.m. and 2.30 p.m. inside The Croft at St Michael's Church.
GEO:-2.382086;53.442027
LOCATION:St Michael's Church
URL:https://www.achurchnearyou.com/church/15892/service-and-events/events/
 1234696/
END:VEVENT
BEGIN:VEVENT
SUMMARY:Bible Study
DTSTART;TZID=Europe/London:20260513T133000
DTEND;TZID=Europe/London:20260513T143000
DTSTAMP:20260422T173829Z
UID:12346962026-05-13 13:30:00+01:00achurchnearyou
CATEGORIES:
DESCRIPTION:A Bible Study group exploring 'What's new about the New Testam
 ent.'  This takes place every 2nd and 4th Wednesdays of the month between 
 1.30 p.m. and 2.30 p.m. inside The Croft at St Michael's Church.
GEO:-2.382086;53.442027
LOCATION:St Michael's Church
URL:https://www.achurchnearyou.com/church/15892/service-and-events/events/
 1234696/
END:VEVENT
BEGIN:VEVENT
SUMMARY:Bible Study
DTSTART;TZID=Europe/London:20260527T133000
DTEND;TZID=Europe/London:20260527T143000
DTSTAMP:20260422T173829Z
UID:12346962026-05-27 13:30:00+01:00achurchnearyou
CATEGORIES:
DESCRIPTION:A Bible Study group exploring 'What's new about the New Testam
 ent.'  This takes place every 2nd and 4th Wednesdays of the month between 
 1.30 p.m. and 2.30 p.m. inside The Croft at St Michael's Church.
GEO:-2.382086;53.442027
LOCATION:St Michael's Church
URL:https://www.achurchnearyou.com/church/15892/service-and-events/events/
 1234696/
END:VEVENT
BEGIN:VEVENT
SUMMARY:Bible Study
DTSTART;TZID=Europe/London:20260610T133000
DTEND;TZID=Europe/London:20260610T143000
DTSTAMP:20260422T173829Z
UID:12346962026-06-10 13:30:00+01:00achurchnearyou
CATEGORIES:
DESCRIPTION:A Bible Study group exploring 'What's new about the New Testam
 ent.'  This takes place every 2nd and 4th Wednesdays of the month between 
 1.30 p.m. and 2.30 p.m. inside The Croft at St Michael's Church.
GEO:-2.382086;53.442027
LOCATION:St Michael's Church
URL:https://www.achurchnearyou.com/church/15892/service-and-events/events/
 1234696/
END:VEVENT
BEGIN:VEVENT
SUMMARY:Bible Study
DTSTART;TZID=Europe/London:20260624T133000
DTEND;TZID=Europe/London:20260624T143000
DTSTAMP:20260422T173829Z
UID:12346962026-06-24 13:30:00+01:00achurchnearyou
CATEGORIES:
DESCRIPTION:A Bible Study group exploring 'What's new about the New Testam
 ent.'  This takes place every 2nd and 4th Wednesdays of the month between 
 1.30 p.m. and 2.30 p.m. inside The Croft at St Michael's Church.
GEO:-2.382086;53.442027
LOCATION:St Michael's Church
URL:https://www.achurchnearyou.com/church/15892/service-and-events/events/
 1234696/
END:VEVENT
BEGIN:VEVENT
SUMMARY:Bible Study
DTSTART;TZID=Europe/London:20260708T133000
DTEND;TZID=Europe/London:20260708T143000
DTSTAMP:20260422T173829Z
UID:12346962026-07-08 13:30:00+01:00achurchnearyou
CATEGORIES:
DESCRIPTION:A Bible Study group exploring 'What's new about the New Testam
 ent.'  This takes place every 2nd and 4th Wednesdays of the month between 
 1.30 p.m. and 2.30 p.m. inside The Croft at St Michael's Church.
GEO:-2.382086;53.442027
LOCATION:St Michael's Church
URL:https://www.achurchnearyou.com/church/15892/service-and-events/events/
 1234696/
END:VEVENT
BEGIN:VEVENT
SUMMARY:Bible Study
DTSTART;TZID=Europe/London:20260722T133000
DTEND;TZID=Europe/London:20260722T143000
DTSTAMP:20260422T173829Z
UID:12346962026-07-22 13:30:00+01:00achurchnearyou
CATEGORIES:
DESCRIPTION:A Bible Study group exploring 'What's new about the New Testam
 ent.'  This takes place every 2nd and 4th Wednesdays of the month between 
 1.30 p.m. and 2.30 p.m. inside The Croft at St Michael's Church.
GEO:-2.382086;53.442027
LOCATION:St Michael's Church
URL:https://www.achurchnearyou.com/church/15892/service-and-events/events/
 1234696/
END:VEVENT
BEGIN:VEVENT
SUMMARY:Bible Study
DTSTART;TZID=Europe/London:20260812T133000
DTEND;TZID=Europe/London:20260812T143000
DTSTAMP:20260422T173829Z
UID:12346962026-08-12 13:30:00+01:00achurchnearyou
CATEGORIES:
DESCRIPTION:A Bible Study group exploring 'What's new about the New Testam
 ent.'  This takes place every 2nd and 4th Wednesdays of the month between 
 1.30 p.m. and 2.30 p.m. inside The Croft at St Michael's Church.
GEO:-2.382086;53.442027
LOCATION:St Michael's Church
URL:https://www.achurchnearyou.com/church/15892/service-and-events/events/
 1234696/
END:VEVENT
BEGIN:VEVENT
SUMMARY:Bible Study
DTSTART;TZID=Europe/London:20260826T133000
DTEND;TZID=Europe/London:20260826T143000
DTSTAMP:20260422T173829Z
UID:12346962026-08-26 13:30:00+01:00achurchnearyou
CATEGORIES:
DESCRIPTION:A Bible Study group exploring 'What's new about the New Testam
 ent.'  This takes place every 2nd and 4th Wednesdays of the month between 
 1.30 p.m. and 2.30 p.m. inside The Croft at St Michael's Church.
GEO:-2.382086;53.442027
LOCATION:St Michael's Church
URL:https://www.achurchnearyou.com/church/15892/service-and-events/events/
 1234696/
END:VEVENT
BEGIN:VEVENT
SUMMARY:Bible Study
DTSTART;TZID=Europe/London:20260909T133000
DTEND;TZID=Europe/London:20260909T143000
DTSTAMP:20260422T173829Z
UID:12346962026-09-09 13:30:00+01:00achurchnearyou
CATEGORIES:
DESCRIPTION:A Bible Study group exploring 'What's new about the New Testam
 ent.'  This takes place every 2nd and 4th Wednesdays of the month between 
 1.30 p.m. and 2.30 p.m. inside The Croft at St Michael's Church.
GEO:-2.382086;53.442027
LOCATION:St Michael's Church
URL:https://www.achurchnearyou.com/church/15892/service-and-events/events/
 1234696/
END:VEVENT
BEGIN:VEVENT
SUMMARY:Bible Study
DTSTART;TZID=Europe/London:20260923T133000
DTEND;TZID=Europe/London:20260923T143000
DTSTAMP:20260422T173829Z
UID:12346962026-09-23 13:30:00+01:00achurchnearyou
CATEGORIES:
DESCRIPTION:A Bible Study group exploring 'What's new about the New Testam
 ent.'  This takes place every 2nd and 4th Wednesdays of the month between 
 1.30 p.m. and 2.30 p.m. inside The Croft at St Michael's Church.
GEO:-2.382086;53.442027
LOCATION:St Michael's Church
URL:https://www.achurchnearyou.com/church/15892/service-and-events/events/
 1234696/
END:VEVENT
BEGIN:VEVENT
SUMMARY:Bible Study
DTSTART;TZID=Europe/London:20261014T133000
DTEND;TZID=Europe/London:20261014T143000
DTSTAMP:20260422T173829Z
UID:12346962026-10-14 13:30:00+01:00achurchnearyou
CATEGORIES:
DESCRIPTION:A Bible Study group exploring 'What's new about the New Testam
 ent.'  This takes place every 2nd and 4th Wednesdays of the month between 
 1.30 p.m. and 2.30 p.m. inside The Croft at St Michael's Church.
GEO:-2.382086;53.442027
LOCATION:St Michael's Church
URL:https://www.achurchnearyou.com/church/15892/service-and-events/events/
 1234696/
END:VEVENT
BEGIN:VEVENT
SUMMARY:Bible Study
DTSTART;TZID=Europe/London:20261028T133000
DTEND;TZID=Europe/London:20261028T143000
DTSTAMP:20260422T173829Z
UID:12346962026-10-28 13:30:00+00:00achurchnearyou
CATEGORIES:
DESCRIPTION:A Bible Study group exploring 'What's new about the New Testam
 ent.'  This takes place every 2nd and 4th Wednesdays of the month between 
 1.30 p.m. and 2.30 p.m. inside The Croft at St Michael's Church.
GEO:-2.382086;53.442027
LOCATION:St Michael's Church
URL:https://www.achurchnearyou.com/church/15892/service-and-events/events/
 1234696/
END:VEVENT
BEGIN:VEVENT
SUMMARY:Bible Study
DTSTART;TZID=Europe/London:20261111T133000
DTEND;TZID=Europe/London:20261111T143000
DTSTAMP:20260422T173829Z
UID:12346962026-11-11 13:30:00+00:00achurchnearyou
CATEGORIES:
DESCRIPTION:A Bible Study group exploring 'What's new about the New Testam
 ent.'  This takes place every 2nd and 4th Wednesdays of the month between 
 1.30 p.m. and 2.30 p.m. inside The Croft at St Michael's Church.
GEO:-2.382086;53.442027
LOCATION:St Michael's Church
URL:https://www.achurchnearyou.com/church/15892/service-and-events/events/
 1234696/
END:VEVENT
BEGIN:VEVENT
SUMMARY:Bible Study
DTSTART;TZID=Europe/London:20261125T133000
DTEND;TZID=Europe/London:20261125T143000
DTSTAMP:20260422T173829Z
UID:12346962026-11-25 13:30:00+00:00achurchnearyou
CATEGORIES:
DESCRIPTION:A Bible Study group exploring 'What's new about the New Testam
 ent.'  This takes place every 2nd and 4th Wednesdays of the month between 
 1.30 p.m. and 2.30 p.m. inside The Croft at St Michael's Church.
GEO:-2.382086;53.442027
LOCATION:St Michael's Church
URL:https://www.achurchnearyou.com/church/15892/service-and-events/events/
 1234696/
END:VEVENT
BEGIN:VEVENT
SUMMARY:Bible Study
DTSTART;TZID=Europe/London:20261209T133000
DTEND;TZID=Europe/London:20261209T143000
DTSTAMP:20260422T173829Z
UID:12346962026-12-09 13:30:00+00:00achurchnearyou
CATEGORIES:
DESCRIPTION:A Bible Study group exploring 'What's new about the New Testam
 ent.'  This takes place every 2nd and 4th Wednesdays of the month between 
 1.30 p.m. and 2.30 p.m. inside The Croft at St Michael's Church.
GEO:-2.382086;53.442027
LOCATION:St Michael's Church
URL:https://www.achurchnearyou.com/church/15892/service-and-events/events/
 1234696/
END:VEVENT
BEGIN:VEVENT
SUMMARY:Bible Study
DTSTART;TZID=Europe/London:20261223T133000
DTEND;TZID=Europe/London:20261223T143000
DTSTAMP:20260422T173829Z
UID:12346962026-12-23 13:30:00+00:00achurchnearyou
CATEGORIES:
DESCRIPTION:A Bible Study group exploring 'What's new about the New Testam
 ent.'  This takes place every 2nd and 4th Wednesdays of the month between 
 1.30 p.m. and 2.30 p.m. inside The Croft at St Michael's Church.
GEO:-2.382086;53.442027
LOCATION:St Michael's Church
URL:https://www.achurchnearyou.com/church/15892/service-and-events/events/
 1234696/
END:VEVENT
BEGIN:VEVENT
SUMMARY:Bible Study
DTSTART;TZID=Europe/London:20270113T133000
DTEND;TZID=Europe/London:20270113T143000
DTSTAMP:20260422T173829Z
UID:12346962027-01-13 13:30:00+00:00achurchnearyou
CATEGORIES:
DESCRIPTION:A Bible Study group exploring 'What's new about the New Testam
 ent.'  This takes place every 2nd and 4th Wednesdays of the month between 
 1.30 p.m. and 2.30 p.m. inside The Croft at St Michael's Church.
GEO:-2.382086;53.442027
LOCATION:St Michael's Church
URL:https://www.achurchnearyou.com/church/15892/service-and-events/events/
 1234696/
END:VEVENT
BEGIN:VEVENT
SUMMARY:Bible Study
DTSTART;TZID=Europe/London:20270127T133000
DTEND;TZID=Europe/London:20270127T143000
DTSTAMP:20260422T173829Z
UID:12346962027-01-27 13:30:00+00:00achurchnearyou
CATEGORIES:
DESCRIPTION:A Bible Study group exploring 'What's new about the New Testam
 ent.'  This takes place every 2nd and 4th Wednesdays of the month between 
 1.30 p.m. and 2.30 p.m. inside The Croft at St Michael's Church.
GEO:-2.382086;53.442027
LOCATION:St Michael's Church
URL:https://www.achurchnearyou.com/church/15892/service-and-events/events/
 1234696/
END:VEVENT
BEGIN:VEVENT
SUMMARY:Bible Study
DTSTART;TZID=Europe/London:20270210T133000
DTEND;TZID=Europe/London:20270210T143000
DTSTAMP:20260422T173829Z
UID:12346962027-02-10 13:30:00+00:00achurchnearyou
CATEGORIES:
DESCRIPTION:A Bible Study group exploring 'What's new about the New Testam
 ent.'  This takes place every 2nd and 4th Wednesdays of the month between 
 1.30 p.m. and 2.30 p.m. inside The Croft at St Michael's Church.
GEO:-2.382086;53.442027
LOCATION:St Michael's Church
URL:https://www.achurchnearyou.com/church/15892/service-and-events/events/
 1234696/
END:VEVENT
BEGIN:VEVENT
SUMMARY:Bible Study
DTSTART;TZID=Europe/London:20270224T133000
DTEND;TZID=Europe/London:20270224T143000
DTSTAMP:20260422T173829Z
UID:12346962027-02-24 13:30:00+00:00achurchnearyou
CATEGORIES:
DESCRIPTION:A Bible Study group exploring 'What's new about the New Testam
 ent.'  This takes place every 2nd and 4th Wednesdays of the month between 
 1.30 p.m. and 2.30 p.m. inside The Croft at St Michael's Church.
GEO:-2.382086;53.442027
LOCATION:St Michael's Church
URL:https://www.achurchnearyou.com/church/15892/service-and-events/events/
 1234696/
END:VEVENT
BEGIN:VEVENT
SUMMARY:Bible Study
DTSTART;TZID=Europe/London:20270310T133000
DTEND;TZID=Europe/London:20270310T143000
DTSTAMP:20260422T173829Z
UID:12346962027-03-10 13:30:00+00:00achurchnearyou
CATEGORIES:
DESCRIPTION:A Bible Study group exploring 'What's new about the New Testam
 ent.'  This takes place every 2nd and 4th Wednesdays of the month between 
 1.30 p.m. and 2.30 p.m. inside The Croft at St Michael's Church.
GEO:-2.382086;53.442027
LOCATION:St Michael's Church
URL:https://www.achurchnearyou.com/church/15892/service-and-events/events/
 1234696/
END:VEVENT
BEGIN:VEVENT
SUMMARY:Bible Study
DTSTART;TZID=Europe/London:20270324T133000
DTEND;TZID=Europe/London:20270324T143000
DTSTAMP:20260422T173829Z
UID:12346962027-03-24 13:30:00+00:00achurchnearyou
CATEGORIES:
DESCRIPTION:A Bible Study group exploring 'What's new about the New Testam
 ent.'  This takes place every 2nd and 4th Wednesdays of the month between 
 1.30 p.m. and 2.30 p.m. inside The Croft at St Michael's Church.
GEO:-2.382086;53.442027
LOCATION:St Michael's Church
URL:https://www.achurchnearyou.com/church/15892/service-and-events/events/
 1234696/
END:VEVENT
BEGIN:VEVENT
SUMMARY:Bible Study
DTSTART;TZID=Europe/London:20270414T133000
DTEND;TZID=Europe/London:20270414T143000
DTSTAMP:20260422T173829Z
UID:12346962027-04-14 13:30:00+01:00achurchnearyou
CATEGORIES:
DESCRIPTION:A Bible Study group exploring 'What's new about the New Testam
 ent.'  This takes place every 2nd and 4th Wednesdays of the month between 
 1.30 p.m. and 2.30 p.m. inside The Croft at St Michael's Church.
GEO:-2.382086;53.442027
LOCATION:St Michael's Church
URL:https://www.achurchnearyou.com/church/15892/service-and-events/events/
 1234696/
END:VEVENT
END:VCALENDAR
