BEGIN:VCALENDAR
VERSION:2.0
PRODID:-//achurchnearyou.com//eventfeed//EN
CALSCALE:GREGORIAN
METHOD:PUBLISH
X-WR-TIMEZONE:UTC
BEGIN:VEVENT
SUMMARY:Christmas Present - Joy!
DTSTART:20251220T140000Z
DTEND:20251220T180000Z
DTSTAMP:20260423T211105Z
UID:12616542025-12-20 14:00:00+00:00achurchnearyou
CATEGORIES:
DESCRIPTION:Welcome to all of any faith or none as we celebrate the birth 
 of Jesus together with a joyful afternoon of crafts\, refreshments\, a sim
 ple meal\, nativity story and carol service.\nCome for some or all of the 
 event.... but it is FREE!\n2pm Crafts & Refreshments\n4pm Nativity JOY!\n4
 .30pm Simple Meal\n5.15pm Carol Service
GEO:-2.262024;53.460938
LOCATION:St Bride's
URL:https://www.achurchnearyou.com/church/15896/service-and-events/events/
 1261654/
END:VEVENT
END:VCALENDAR
