BEGIN:VCALENDAR
VERSION:2.0
PRODID:-//achurchnearyou.com//eventfeed//EN
CALSCALE:GREGORIAN
METHOD:PUBLISH
X-WR-TIMEZONE:UTC
BEGIN:VEVENT
SUMMARY:Christmas Fair
DTSTART:20251129T110000Z
DTEND:20251129T140000Z
DTSTAMP:20260422T021446Z
UID:12384242025-11-29 11:00:00+00:00achurchnearyou
CATEGORIES:
DESCRIPTION:This year's Christmas Fair is on Saturday\, 29th November\, 11
 am-2pm in church. Lots of stalls and Father Christmas.
GEO:-2.282453;53.409404
LOCATION:St Michael & All Angels\, Lawton Moor
URL:https://www.achurchnearyou.com/church/15908/service-and-events/events/
 1238424/
END:VEVENT
END:VCALENDAR
