BEGIN:VCALENDAR
VERSION:2.0
PRODID:-//achurchnearyou.com//eventfeed//EN
CALSCALE:GREGORIAN
METHOD:PUBLISH
X-WR-TIMEZONE:UTC
BEGIN:VEVENT
SUMMARY:Holy Week 2026
DTSTART;TZID=Europe/London:20260329T103000
DTEND;TZID=Europe/London:20260329T120000
DTSTAMP:20260421T140117Z
UID:13181282026-03-29 10:30:00+01:00achurchnearyou
CATEGORIES:
DESCRIPTION:Palm Sunday – 29th March\n10.30am - Eucharist of Palm Sunday
 \n5pm - Taize Service\n\nTuesday in Holy Week – 31st March\n10.30-12.30 
 - Church open\, cafe\, children's Easter Trail\n\nWednesday in Holy Week 
 – 1st April\n10am Eucharist\n10.30-12.30 - Church open\, cafe\, children
 's Easter Trail\n12.30 - Mid-Day Prayer\n\nMaundy Thursday – 2nd April\n
 10.30-12.30 - Church open\, cafe\, children's Easter Trail\n12.30 - Mid-Da
 y Prayer\n7pm             Holy Eucharist of the Last Supper\nIncluding foo
 t-washing and the stripping of the altar.  We will process to the Altar of
  Repose and keep a time of silent prayer.\nWatch until 10pm\; Compline at 
 10pm.\n\nGood Friday – 3rd April\n10am          Good Friday Family Craft
 s\n12 noon     Good Friday Liturgy \n                    (the main service
  of Good Friday)\n1.30pm       Procession of Witness to the Town Centre\n\
 nHoly Saturday – 4th April\n9.30am – 12 noon       Coffee Morning\n12 
 noon      Organ Recital – a free 30 minute concert\n7pm             East
 er Vigil                           \n\nEaster Day – 5th April\n10.30am  
   Sung Eucharist for Easter
GEO:-2.1114;53.542441
LOCATION:Oldham Parish Church
URL:https://www.achurchnearyou.com/church/15927/service-and-events/events/
 1318128/
END:VEVENT
BEGIN:VEVENT
SUMMARY:Holy Week 2026
DTSTART;TZID=Europe/London:20260330T103000
DTEND;TZID=Europe/London:20260330T120000
DTSTAMP:20260421T140117Z
UID:13181282026-03-30 10:30:00+01:00achurchnearyou
CATEGORIES:
DESCRIPTION:Palm Sunday – 29th March\n10.30am - Eucharist of Palm Sunday
 \n5pm - Taize Service\n\nTuesday in Holy Week – 31st March\n10.30-12.30 
 - Church open\, cafe\, children's Easter Trail\n\nWednesday in Holy Week 
 – 1st April\n10am Eucharist\n10.30-12.30 - Church open\, cafe\, children
 's Easter Trail\n12.30 - Mid-Day Prayer\n\nMaundy Thursday – 2nd April\n
 10.30-12.30 - Church open\, cafe\, children's Easter Trail\n12.30 - Mid-Da
 y Prayer\n7pm             Holy Eucharist of the Last Supper\nIncluding foo
 t-washing and the stripping of the altar.  We will process to the Altar of
  Repose and keep a time of silent prayer.\nWatch until 10pm\; Compline at 
 10pm.\n\nGood Friday – 3rd April\n10am          Good Friday Family Craft
 s\n12 noon     Good Friday Liturgy \n                    (the main service
  of Good Friday)\n1.30pm       Procession of Witness to the Town Centre\n\
 nHoly Saturday – 4th April\n9.30am – 12 noon       Coffee Morning\n12 
 noon      Organ Recital – a free 30 minute concert\n7pm             East
 er Vigil                           \n\nEaster Day – 5th April\n10.30am  
   Sung Eucharist for Easter
GEO:-2.1114;53.542441
LOCATION:Oldham Parish Church
URL:https://www.achurchnearyou.com/church/15927/service-and-events/events/
 1318128/
END:VEVENT
BEGIN:VEVENT
SUMMARY:Holy Week 2026
DTSTART;TZID=Europe/London:20260331T103000
DTEND;TZID=Europe/London:20260331T120000
DTSTAMP:20260421T140117Z
UID:13181282026-03-31 10:30:00+01:00achurchnearyou
CATEGORIES:
DESCRIPTION:Palm Sunday – 29th March\n10.30am - Eucharist of Palm Sunday
 \n5pm - Taize Service\n\nTuesday in Holy Week – 31st March\n10.30-12.30 
 - Church open\, cafe\, children's Easter Trail\n\nWednesday in Holy Week 
 – 1st April\n10am Eucharist\n10.30-12.30 - Church open\, cafe\, children
 's Easter Trail\n12.30 - Mid-Day Prayer\n\nMaundy Thursday – 2nd April\n
 10.30-12.30 - Church open\, cafe\, children's Easter Trail\n12.30 - Mid-Da
 y Prayer\n7pm             Holy Eucharist of the Last Supper\nIncluding foo
 t-washing and the stripping of the altar.  We will process to the Altar of
  Repose and keep a time of silent prayer.\nWatch until 10pm\; Compline at 
 10pm.\n\nGood Friday – 3rd April\n10am          Good Friday Family Craft
 s\n12 noon     Good Friday Liturgy \n                    (the main service
  of Good Friday)\n1.30pm       Procession of Witness to the Town Centre\n\
 nHoly Saturday – 4th April\n9.30am – 12 noon       Coffee Morning\n12 
 noon      Organ Recital – a free 30 minute concert\n7pm             East
 er Vigil                           \n\nEaster Day – 5th April\n10.30am  
   Sung Eucharist for Easter
GEO:-2.1114;53.542441
LOCATION:Oldham Parish Church
URL:https://www.achurchnearyou.com/church/15927/service-and-events/events/
 1318128/
END:VEVENT
BEGIN:VEVENT
SUMMARY:Holy Week 2026
DTSTART;TZID=Europe/London:20260401T103000
DTEND;TZID=Europe/London:20260401T120000
DTSTAMP:20260421T140117Z
UID:13181282026-04-01 10:30:00+01:00achurchnearyou
CATEGORIES:
DESCRIPTION:Palm Sunday – 29th March\n10.30am - Eucharist of Palm Sunday
 \n5pm - Taize Service\n\nTuesday in Holy Week – 31st March\n10.30-12.30 
 - Church open\, cafe\, children's Easter Trail\n\nWednesday in Holy Week 
 – 1st April\n10am Eucharist\n10.30-12.30 - Church open\, cafe\, children
 's Easter Trail\n12.30 - Mid-Day Prayer\n\nMaundy Thursday – 2nd April\n
 10.30-12.30 - Church open\, cafe\, children's Easter Trail\n12.30 - Mid-Da
 y Prayer\n7pm             Holy Eucharist of the Last Supper\nIncluding foo
 t-washing and the stripping of the altar.  We will process to the Altar of
  Repose and keep a time of silent prayer.\nWatch until 10pm\; Compline at 
 10pm.\n\nGood Friday – 3rd April\n10am          Good Friday Family Craft
 s\n12 noon     Good Friday Liturgy \n                    (the main service
  of Good Friday)\n1.30pm       Procession of Witness to the Town Centre\n\
 nHoly Saturday – 4th April\n9.30am – 12 noon       Coffee Morning\n12 
 noon      Organ Recital – a free 30 minute concert\n7pm             East
 er Vigil                           \n\nEaster Day – 5th April\n10.30am  
   Sung Eucharist for Easter
GEO:-2.1114;53.542441
LOCATION:Oldham Parish Church
URL:https://www.achurchnearyou.com/church/15927/service-and-events/events/
 1318128/
END:VEVENT
BEGIN:VEVENT
SUMMARY:Holy Week 2026
DTSTART;TZID=Europe/London:20260402T103000
DTEND;TZID=Europe/London:20260402T120000
DTSTAMP:20260421T140117Z
UID:13181282026-04-02 10:30:00+01:00achurchnearyou
CATEGORIES:
DESCRIPTION:Palm Sunday – 29th March\n10.30am - Eucharist of Palm Sunday
 \n5pm - Taize Service\n\nTuesday in Holy Week – 31st March\n10.30-12.30 
 - Church open\, cafe\, children's Easter Trail\n\nWednesday in Holy Week 
 – 1st April\n10am Eucharist\n10.30-12.30 - Church open\, cafe\, children
 's Easter Trail\n12.30 - Mid-Day Prayer\n\nMaundy Thursday – 2nd April\n
 10.30-12.30 - Church open\, cafe\, children's Easter Trail\n12.30 - Mid-Da
 y Prayer\n7pm             Holy Eucharist of the Last Supper\nIncluding foo
 t-washing and the stripping of the altar.  We will process to the Altar of
  Repose and keep a time of silent prayer.\nWatch until 10pm\; Compline at 
 10pm.\n\nGood Friday – 3rd April\n10am          Good Friday Family Craft
 s\n12 noon     Good Friday Liturgy \n                    (the main service
  of Good Friday)\n1.30pm       Procession of Witness to the Town Centre\n\
 nHoly Saturday – 4th April\n9.30am – 12 noon       Coffee Morning\n12 
 noon      Organ Recital – a free 30 minute concert\n7pm             East
 er Vigil                           \n\nEaster Day – 5th April\n10.30am  
   Sung Eucharist for Easter
GEO:-2.1114;53.542441
LOCATION:Oldham Parish Church
URL:https://www.achurchnearyou.com/church/15927/service-and-events/events/
 1318128/
END:VEVENT
BEGIN:VEVENT
SUMMARY:Holy Week 2026
DTSTART;TZID=Europe/London:20260403T103000
DTEND;TZID=Europe/London:20260403T120000
DTSTAMP:20260421T140117Z
UID:13181282026-04-03 10:30:00+01:00achurchnearyou
CATEGORIES:
DESCRIPTION:Palm Sunday – 29th March\n10.30am - Eucharist of Palm Sunday
 \n5pm - Taize Service\n\nTuesday in Holy Week – 31st March\n10.30-12.30 
 - Church open\, cafe\, children's Easter Trail\n\nWednesday in Holy Week 
 – 1st April\n10am Eucharist\n10.30-12.30 - Church open\, cafe\, children
 's Easter Trail\n12.30 - Mid-Day Prayer\n\nMaundy Thursday – 2nd April\n
 10.30-12.30 - Church open\, cafe\, children's Easter Trail\n12.30 - Mid-Da
 y Prayer\n7pm             Holy Eucharist of the Last Supper\nIncluding foo
 t-washing and the stripping of the altar.  We will process to the Altar of
  Repose and keep a time of silent prayer.\nWatch until 10pm\; Compline at 
 10pm.\n\nGood Friday – 3rd April\n10am          Good Friday Family Craft
 s\n12 noon     Good Friday Liturgy \n                    (the main service
  of Good Friday)\n1.30pm       Procession of Witness to the Town Centre\n\
 nHoly Saturday – 4th April\n9.30am – 12 noon       Coffee Morning\n12 
 noon      Organ Recital – a free 30 minute concert\n7pm             East
 er Vigil                           \n\nEaster Day – 5th April\n10.30am  
   Sung Eucharist for Easter
GEO:-2.1114;53.542441
LOCATION:Oldham Parish Church
URL:https://www.achurchnearyou.com/church/15927/service-and-events/events/
 1318128/
END:VEVENT
BEGIN:VEVENT
SUMMARY:Holy Week 2026
DTSTART;TZID=Europe/London:20260404T103000
DTEND;TZID=Europe/London:20260404T120000
DTSTAMP:20260421T140117Z
UID:13181282026-04-04 10:30:00+01:00achurchnearyou
CATEGORIES:
DESCRIPTION:Palm Sunday – 29th March\n10.30am - Eucharist of Palm Sunday
 \n5pm - Taize Service\n\nTuesday in Holy Week – 31st March\n10.30-12.30 
 - Church open\, cafe\, children's Easter Trail\n\nWednesday in Holy Week 
 – 1st April\n10am Eucharist\n10.30-12.30 - Church open\, cafe\, children
 's Easter Trail\n12.30 - Mid-Day Prayer\n\nMaundy Thursday – 2nd April\n
 10.30-12.30 - Church open\, cafe\, children's Easter Trail\n12.30 - Mid-Da
 y Prayer\n7pm             Holy Eucharist of the Last Supper\nIncluding foo
 t-washing and the stripping of the altar.  We will process to the Altar of
  Repose and keep a time of silent prayer.\nWatch until 10pm\; Compline at 
 10pm.\n\nGood Friday – 3rd April\n10am          Good Friday Family Craft
 s\n12 noon     Good Friday Liturgy \n                    (the main service
  of Good Friday)\n1.30pm       Procession of Witness to the Town Centre\n\
 nHoly Saturday – 4th April\n9.30am – 12 noon       Coffee Morning\n12 
 noon      Organ Recital – a free 30 minute concert\n7pm             East
 er Vigil                           \n\nEaster Day – 5th April\n10.30am  
   Sung Eucharist for Easter
GEO:-2.1114;53.542441
LOCATION:Oldham Parish Church
URL:https://www.achurchnearyou.com/church/15927/service-and-events/events/
 1318128/
END:VEVENT
BEGIN:VEVENT
SUMMARY:Holy Week 2026
DTSTART;TZID=Europe/London:20260405T103000
DTEND;TZID=Europe/London:20260405T120000
DTSTAMP:20260421T140117Z
UID:13181282026-04-05 10:30:00+01:00achurchnearyou
CATEGORIES:
DESCRIPTION:Palm Sunday – 29th March\n10.30am - Eucharist of Palm Sunday
 \n5pm - Taize Service\n\nTuesday in Holy Week – 31st March\n10.30-12.30 
 - Church open\, cafe\, children's Easter Trail\n\nWednesday in Holy Week 
 – 1st April\n10am Eucharist\n10.30-12.30 - Church open\, cafe\, children
 's Easter Trail\n12.30 - Mid-Day Prayer\n\nMaundy Thursday – 2nd April\n
 10.30-12.30 - Church open\, cafe\, children's Easter Trail\n12.30 - Mid-Da
 y Prayer\n7pm             Holy Eucharist of the Last Supper\nIncluding foo
 t-washing and the stripping of the altar.  We will process to the Altar of
  Repose and keep a time of silent prayer.\nWatch until 10pm\; Compline at 
 10pm.\n\nGood Friday – 3rd April\n10am          Good Friday Family Craft
 s\n12 noon     Good Friday Liturgy \n                    (the main service
  of Good Friday)\n1.30pm       Procession of Witness to the Town Centre\n\
 nHoly Saturday – 4th April\n9.30am – 12 noon       Coffee Morning\n12 
 noon      Organ Recital – a free 30 minute concert\n7pm             East
 er Vigil                           \n\nEaster Day – 5th April\n10.30am  
   Sung Eucharist for Easter
GEO:-2.1114;53.542441
LOCATION:Oldham Parish Church
URL:https://www.achurchnearyou.com/church/15927/service-and-events/events/
 1318128/
END:VEVENT
END:VCALENDAR
