BEGIN:VCALENDAR
VERSION:2.0
PRODID:-//achurchnearyou.com//eventfeed//EN
CALSCALE:GREGORIAN
METHOD:PUBLISH
X-WR-TIMEZONE:UTC
BEGIN:VEVENT
SUMMARY:Spring Fayre
DTSTART:20260314T110000Z
DTEND:20260314T140000Z
DTSTAMP:20260421T103049Z
UID:13079792026-03-14 11:00:00+00:00achurchnearyou
CATEGORIES:
DESCRIPTION:Just us at Spring Fayre on 14th March - crafts\, raffles\, toy
 s\, gifts\, light refreshments.  All welcome.
LOCATION:Christ Church\, Healey
URL:https://www.achurchnearyou.com/church/15935/service-and-events/events/
 1307979/
END:VEVENT
END:VCALENDAR
