BEGIN:VCALENDAR
VERSION:2.0
PRODID:-//achurchnearyou.com//eventfeed//EN
CALSCALE:GREGORIAN
METHOD:PUBLISH
X-WR-TIMEZONE:UTC
BEGIN:VEVENT
SUMMARY:Holy Week Services in the Benefice
DTSTART;TZID=Europe/London:20260401T100000
DTEND;TZID=Europe/London:20260401T200000
DTSTAMP:20260421T063840Z
UID:13179641775034000.0achurchnearyou
CATEGORIES:
DESCRIPTION:Join us everyday as we worship and remember the events of Holy
  Week.  There is something in person or on-line everyday from Palm Sunday 
 to Easter Day - please join us.
LOCATION:Christ Church\, Healey
URL:https://www.achurchnearyou.com/church/15935/service-and-events/events/
 1317964/
END:VEVENT
BEGIN:VEVENT
SUMMARY:Holy Week Services in the Benefice
DTSTART;TZID=Europe/London:20260402T100000
DTEND;TZID=Europe/London:20260402T200000
DTSTAMP:20260421T063840Z
UID:13179641775120400.0achurchnearyou
CATEGORIES:
DESCRIPTION:Join us everyday as we worship and remember the events of Holy
  Week.  There is something in person or on-line everyday from Palm Sunday 
 to Easter Day - please join us.
LOCATION:Christ Church\, Healey
URL:https://www.achurchnearyou.com/church/15935/service-and-events/events/
 1317964/
END:VEVENT
BEGIN:VEVENT
SUMMARY:Holy Week Services in the Benefice
DTSTART;TZID=Europe/London:20260403T100000
DTEND;TZID=Europe/London:20260403T200000
DTSTAMP:20260421T063840Z
UID:13179641775206800.0achurchnearyou
CATEGORIES:
DESCRIPTION:Join us everyday as we worship and remember the events of Holy
  Week.  There is something in person or on-line everyday from Palm Sunday 
 to Easter Day - please join us.
LOCATION:Christ Church\, Healey
URL:https://www.achurchnearyou.com/church/15935/service-and-events/events/
 1317964/
END:VEVENT
BEGIN:VEVENT
SUMMARY:Holy Week Services in the Benefice
DTSTART;TZID=Europe/London:20260404T100000
DTEND;TZID=Europe/London:20260404T200000
DTSTAMP:20260421T063840Z
UID:13179641775293200.0achurchnearyou
CATEGORIES:
DESCRIPTION:Join us everyday as we worship and remember the events of Holy
  Week.  There is something in person or on-line everyday from Palm Sunday 
 to Easter Day - please join us.
LOCATION:Christ Church\, Healey
URL:https://www.achurchnearyou.com/church/15935/service-and-events/events/
 1317964/
END:VEVENT
BEGIN:VEVENT
SUMMARY:Easter Day Sunrise Service\, 6.15am
DTSTART;TZID=Europe/London:20260405T061500
DTEND;TZID=Europe/London:20260405T064500
DTSTAMP:20260421T063840Z
UID:12981391775366100.0achurchnearyou
CATEGORIES:
DESCRIPTION:Join us to celebrate and worship as we praise God and watch th
 e sun rise on this glorious Easter Day.  Breakfast served in the hall afte
 r.
LOCATION:Christ Church\, Healey
URL:https://www.achurchnearyou.com/church/15935/service-and-events/events/
 1298139/
END:VEVENT
BEGIN:VEVENT
SUMMARY:Holy Week Services in the Benefice
DTSTART;TZID=Europe/London:20260405T100000
DTEND;TZID=Europe/London:20260405T200000
DTSTAMP:20260421T063840Z
UID:13179641775379600.0achurchnearyou
CATEGORIES:
DESCRIPTION:Join us everyday as we worship and remember the events of Holy
  Week.  There is something in person or on-line everyday from Palm Sunday 
 to Easter Day - please join us.
LOCATION:Christ Church\, Healey
URL:https://www.achurchnearyou.com/church/15935/service-and-events/events/
 1317964/
END:VEVENT
BEGIN:VEVENT
SUMMARY:Easter Day Celebration!
DTSTART;TZID=Europe/London:20260405T103000
DTEND;TZID=Europe/London:20260405T113000
DTSTAMP:20260421T063840Z
UID:12981351775381400.0achurchnearyou
CATEGORIES:
DESCRIPTION:Join us to worship\, pray\, give thanks and to share communion
  on this happiest of days.
GEO:-2.128214;53.616491
LOCATION:Parish Church of St Ann\, Belfield
URL:https://www.achurchnearyou.com/church/15935/service-and-events/events/
 1298135/
END:VEVENT
BEGIN:VEVENT
SUMMARY:Prayer Group
DTSTART;TZID=Europe/London:20260407T190000
DTEND;TZID=Europe/London:20260407T200000
DTSTAMP:20260421T063840Z
UID:10719541775584800.0achurchnearyou
CATEGORIES:
DESCRIPTION:Just us for an informal time of prayer for our churches\, bene
 fice\, the world and ourselves.
LOCATION:Parish Church of St Ann\, Belfield
URL:https://www.achurchnearyou.com/church/15935/service-and-events/events/
 1071954/
END:VEVENT
BEGIN:VEVENT
SUMMARY:Breathe Service - new time and venue
DTSTART;TZID=Europe/London:20260412T190000
DTEND;TZID=Europe/London:20260412T200000
DTSTAMP:20260421T063840Z
UID:12784901776016800.0achurchnearyou
CATEGORIES:
DESCRIPTION:Join us for a quiet\, contemplative service of worship and con
 temporary music\, every 2nd Sunday at 7.00pm\, Christ Church\, Healey - ha
 ll.
LOCATION:Christ Church\, Healey
URL:https://www.achurchnearyou.com/church/15935/service-and-events/events/
 1278490/
END:VEVENT
BEGIN:VEVENT
SUMMARY:Race Night
DTSTART;TZID=Europe/London:20260418T190000
DTEND;TZID=Europe/London:20260418T210000
DTSTAMP:20260421T063840Z
UID:13082841776535200.0achurchnearyou
CATEGORIES:
DESCRIPTION:Come and enjoy a fun evening together - race game\, raffle\, f
 un and friendship.  Light refreshments will be served.  TICKETS in advance
 \, £5.
LOCATION:Christ Church\, Healey
URL:https://www.achurchnearyou.com/church/15935/service-and-events/events/
 1308284/
END:VEVENT
BEGIN:VEVENT
SUMMARY:Quiz Night
DTSTART;TZID=Europe/London:20260424T190000
DTEND;TZID=Europe/London:20260424T210000
DTSTAMP:20260421T063840Z
UID:13179871777053600.0achurchnearyou
CATEGORIES:
DESCRIPTION:Join us for a fun evening - quiz teams maximum of 6.  By ticke
 t\, in advance\, £10 including supper.  Bring your own drinks.
GEO:-2.128214;53.616491
LOCATION:Parish Church of St Ann\, Belfield
URL:https://www.achurchnearyou.com/church/15935/service-and-events/events/
 1317987/
END:VEVENT
BEGIN:VEVENT
SUMMARY:Prayer Group
DTSTART;TZID=Europe/London:20260505T190000
DTEND;TZID=Europe/London:20260505T200000
DTSTAMP:20260421T063840Z
UID:10719541778004000.0achurchnearyou
CATEGORIES:
DESCRIPTION:Just us for an informal time of prayer for our churches\, bene
 fice\, the world and ourselves.
LOCATION:Parish Church of St Ann\, Belfield
URL:https://www.achurchnearyou.com/church/15935/service-and-events/events/
 1071954/
END:VEVENT
BEGIN:VEVENT
SUMMARY:Breathe Service - new time and venue
DTSTART;TZID=Europe/London:20260510T190000
DTEND;TZID=Europe/London:20260510T200000
DTSTAMP:20260421T063840Z
UID:12784901778436000.0achurchnearyou
CATEGORIES:
DESCRIPTION:Join us for a quiet\, contemplative service of worship and con
 temporary music\, every 2nd Sunday at 7.00pm\, Christ Church\, Healey - ha
 ll.
LOCATION:Christ Church\, Healey
URL:https://www.achurchnearyou.com/church/15935/service-and-events/events/
 1278490/
END:VEVENT
BEGIN:VEVENT
SUMMARY:Prayer Group
DTSTART;TZID=Europe/London:20260602T190000
DTEND;TZID=Europe/London:20260602T200000
DTSTAMP:20260421T063840Z
UID:10719541780423200.0achurchnearyou
CATEGORIES:
DESCRIPTION:Just us for an informal time of prayer for our churches\, bene
 fice\, the world and ourselves.
LOCATION:Parish Church of St Ann\, Belfield
URL:https://www.achurchnearyou.com/church/15935/service-and-events/events/
 1071954/
END:VEVENT
BEGIN:VEVENT
SUMMARY:Breathe Service - new time and venue
DTSTART;TZID=Europe/London:20260614T190000
DTEND;TZID=Europe/London:20260614T200000
DTSTAMP:20260421T063840Z
UID:12784901781460000.0achurchnearyou
CATEGORIES:
DESCRIPTION:Join us for a quiet\, contemplative service of worship and con
 temporary music\, every 2nd Sunday at 7.00pm\, Christ Church\, Healey - ha
 ll.
LOCATION:Christ Church\, Healey
URL:https://www.achurchnearyou.com/church/15935/service-and-events/events/
 1278490/
END:VEVENT
BEGIN:VEVENT
SUMMARY:Prayer Group
DTSTART;TZID=Europe/London:20260707T190000
DTEND;TZID=Europe/London:20260707T200000
DTSTAMP:20260421T063840Z
UID:10719541783447200.0achurchnearyou
CATEGORIES:
DESCRIPTION:Just us for an informal time of prayer for our churches\, bene
 fice\, the world and ourselves.
LOCATION:Parish Church of St Ann\, Belfield
URL:https://www.achurchnearyou.com/church/15935/service-and-events/events/
 1071954/
END:VEVENT
BEGIN:VEVENT
SUMMARY:Breathe Service - new time and venue
DTSTART;TZID=Europe/London:20260712T190000
DTEND;TZID=Europe/London:20260712T200000
DTSTAMP:20260421T063840Z
UID:12784901783879200.0achurchnearyou
CATEGORIES:
DESCRIPTION:Join us for a quiet\, contemplative service of worship and con
 temporary music\, every 2nd Sunday at 7.00pm\, Christ Church\, Healey - ha
 ll.
LOCATION:Christ Church\, Healey
URL:https://www.achurchnearyou.com/church/15935/service-and-events/events/
 1278490/
END:VEVENT
BEGIN:VEVENT
SUMMARY:Prayer Group
DTSTART;TZID=Europe/London:20260804T190000
DTEND;TZID=Europe/London:20260804T200000
DTSTAMP:20260421T063840Z
UID:10719541785866400.0achurchnearyou
CATEGORIES:
DESCRIPTION:Just us for an informal time of prayer for our churches\, bene
 fice\, the world and ourselves.
LOCATION:Parish Church of St Ann\, Belfield
URL:https://www.achurchnearyou.com/church/15935/service-and-events/events/
 1071954/
END:VEVENT
BEGIN:VEVENT
SUMMARY:Breathe Service - new time and venue
DTSTART;TZID=Europe/London:20260809T190000
DTEND;TZID=Europe/London:20260809T200000
DTSTAMP:20260421T063840Z
UID:12784901786298400.0achurchnearyou
CATEGORIES:
DESCRIPTION:Join us for a quiet\, contemplative service of worship and con
 temporary music\, every 2nd Sunday at 7.00pm\, Christ Church\, Healey - ha
 ll.
LOCATION:Christ Church\, Healey
URL:https://www.achurchnearyou.com/church/15935/service-and-events/events/
 1278490/
END:VEVENT
BEGIN:VEVENT
SUMMARY:Prayer Group
DTSTART;TZID=Europe/London:20260901T190000
DTEND;TZID=Europe/London:20260901T200000
DTSTAMP:20260421T063840Z
UID:10719541788285600.0achurchnearyou
CATEGORIES:
DESCRIPTION:Just us for an informal time of prayer for our churches\, bene
 fice\, the world and ourselves.
LOCATION:Parish Church of St Ann\, Belfield
URL:https://www.achurchnearyou.com/church/15935/service-and-events/events/
 1071954/
END:VEVENT
BEGIN:VEVENT
SUMMARY:Breathe Service - new time and venue
DTSTART;TZID=Europe/London:20260913T190000
DTEND;TZID=Europe/London:20260913T200000
DTSTAMP:20260421T063840Z
UID:12784901789322400.0achurchnearyou
CATEGORIES:
DESCRIPTION:Join us for a quiet\, contemplative service of worship and con
 temporary music\, every 2nd Sunday at 7.00pm\, Christ Church\, Healey - ha
 ll.
LOCATION:Christ Church\, Healey
URL:https://www.achurchnearyou.com/church/15935/service-and-events/events/
 1278490/
END:VEVENT
END:VCALENDAR
