BEGIN:VCALENDAR
VERSION:2.0
PRODID:-//achurchnearyou.com//eventfeed//EN
CALSCALE:GREGORIAN
METHOD:PUBLISH
X-WR-TIMEZONE:UTC
BEGIN:VEVENT
SUMMARY:Quiet Communion
DTSTART;TZID=Europe/London:20260510T140000
DTEND;TZID=Europe/London:20260510T144500
DTSTAMP:20260423T195240Z
UID:13263502026-05-10 14:00:00+01:00achurchnearyou
CATEGORIES:
DESCRIPTION:Join us for a service in the summer months - quiet\, said\, Co
 mmon Worship Communion service on Sunday afternoons.  Every 2nd Sunday fro
 m May to October.  All welcome.
GEO:-2.174067;53.637962
LOCATION:Christ Church\, Healey
URL:https://www.achurchnearyou.com/church/15941/service-and-events/events/
 1326350/
END:VEVENT
BEGIN:VEVENT
SUMMARY:Quiet Communion
DTSTART;TZID=Europe/London:20260614T140000
DTEND;TZID=Europe/London:20260614T144500
DTSTAMP:20260423T195240Z
UID:13263502026-06-14 14:00:00+01:00achurchnearyou
CATEGORIES:
DESCRIPTION:Join us for a service in the summer months - quiet\, said\, Co
 mmon Worship Communion service on Sunday afternoons.  Every 2nd Sunday fro
 m May to October.  All welcome.
GEO:-2.174067;53.637962
LOCATION:Christ Church\, Healey
URL:https://www.achurchnearyou.com/church/15941/service-and-events/events/
 1326350/
END:VEVENT
BEGIN:VEVENT
SUMMARY:Quiet Communion
DTSTART;TZID=Europe/London:20260712T140000
DTEND;TZID=Europe/London:20260712T144500
DTSTAMP:20260423T195240Z
UID:13263502026-07-12 14:00:00+01:00achurchnearyou
CATEGORIES:
DESCRIPTION:Join us for a service in the summer months - quiet\, said\, Co
 mmon Worship Communion service on Sunday afternoons.  Every 2nd Sunday fro
 m May to October.  All welcome.
GEO:-2.174067;53.637962
LOCATION:Christ Church\, Healey
URL:https://www.achurchnearyou.com/church/15941/service-and-events/events/
 1326350/
END:VEVENT
BEGIN:VEVENT
SUMMARY:Quiet Communion
DTSTART;TZID=Europe/London:20260809T140000
DTEND;TZID=Europe/London:20260809T144500
DTSTAMP:20260423T195240Z
UID:13263502026-08-09 14:00:00+01:00achurchnearyou
CATEGORIES:
DESCRIPTION:Join us for a service in the summer months - quiet\, said\, Co
 mmon Worship Communion service on Sunday afternoons.  Every 2nd Sunday fro
 m May to October.  All welcome.
GEO:-2.174067;53.637962
LOCATION:Christ Church\, Healey
URL:https://www.achurchnearyou.com/church/15941/service-and-events/events/
 1326350/
END:VEVENT
BEGIN:VEVENT
SUMMARY:Quiet Communion
DTSTART;TZID=Europe/London:20260913T140000
DTEND;TZID=Europe/London:20260913T144500
DTSTAMP:20260423T195240Z
UID:13263502026-09-13 14:00:00+01:00achurchnearyou
CATEGORIES:
DESCRIPTION:Join us for a service in the summer months - quiet\, said\, Co
 mmon Worship Communion service on Sunday afternoons.  Every 2nd Sunday fro
 m May to October.  All welcome.
GEO:-2.174067;53.637962
LOCATION:Christ Church\, Healey
URL:https://www.achurchnearyou.com/church/15941/service-and-events/events/
 1326350/
END:VEVENT
BEGIN:VEVENT
SUMMARY:Quiet Communion
DTSTART;TZID=Europe/London:20261011T140000
DTEND;TZID=Europe/London:20261011T144500
DTSTAMP:20260423T195240Z
UID:13263502026-10-11 14:00:00+01:00achurchnearyou
CATEGORIES:
DESCRIPTION:Join us for a service in the summer months - quiet\, said\, Co
 mmon Worship Communion service on Sunday afternoons.  Every 2nd Sunday fro
 m May to October.  All welcome.
GEO:-2.174067;53.637962
LOCATION:Christ Church\, Healey
URL:https://www.achurchnearyou.com/church/15941/service-and-events/events/
 1326350/
END:VEVENT
END:VCALENDAR
