BEGIN:VCALENDAR
VERSION:2.0
PRODID:-//achurchnearyou.com//eventfeed//EN
CALSCALE:GREGORIAN
METHOD:PUBLISH
X-WR-TIMEZONE:UTC
BEGIN:VEVENT
SUMMARY:Ash Wednesday Eucharist Service
DTSTART:20260218T180000Z
DTEND:20260218T190000Z
DTSTAMP:20260423T164555Z
UID:11651332026-02-18 18:00:00+00:00achurchnearyou
CATEGORIES:
DESCRIPTION:On Ash Wednesday we receive the sign of the cross marked in as
 h on our foreheads as a sign of penitence and an expression of trust in Go
 d. \n\nThis is a Holy Communion service. The practice at St Thomas is to s
 hare a common cup. If you do not wish to share\, the taking of Communion i
 n one form (bread) is acceptable according to the Church of England’s gu
 idance.
GEO:-2.096157;53.602131
LOCATION:St Thomas\, Newhey\, Rochdale
URL:https://www.achurchnearyou.com/church/15946/service-and-events/events/
 1165133/
END:VEVENT
END:VCALENDAR
