BEGIN:VCALENDAR
VERSION:2.0
PRODID:-//achurchnearyou.com//eventfeed//EN
CALSCALE:GREGORIAN
METHOD:PUBLISH
X-WR-TIMEZONE:UTC
BEGIN:VEVENT
SUMMARY:Good Friday - 18.04.25  10am
DTSTART:20250418T090000Z
DTEND:20250418T100000Z
DTSTAMP:20260419T135421Z
UID:11660082025-04-18 09:00:00+00:00achurchnearyou
CATEGORIES:
DESCRIPTION:Prayer Service - Good Friday Liturgy/Common Worship
GEO:-2.177179;53.621265
LOCATION:St Clement\, Spotland
URL:https://www.achurchnearyou.com/church/15955/service-and-events/events/
 1166008/
END:VEVENT
END:VCALENDAR
