BEGIN:VCALENDAR
VERSION:2.0
PRODID:-//achurchnearyou.com//eventfeed//EN
CALSCALE:GREGORIAN
METHOD:PUBLISH
X-WR-TIMEZONE:UTC
BEGIN:VEVENT
SUMMARY:'Build the Christmas crib' - service for families and little ones
DTSTART:20251224T150000Z
DTEND:20251224T153000Z
DTSTAMP:20260421T033706Z
UID:11204242025-12-24 15:00:00+00:00achurchnearyou
CATEGORIES:
DESCRIPTION:Please join us on Christmas Eve afternoon for some crafty\, 'm
 essy' fun!.... as we build the crib together and tell the Christmas story 
 with carols - followed by refreshments
GEO:-2.118301;53.463526
LOCATION:St Hilda's Church\, Audenshaw
URL:https://www.achurchnearyou.com/church/15964/service-and-events/events/
 1120424/
END:VEVENT
END:VCALENDAR
