BEGIN:VCALENDAR
VERSION:2.0
PRODID:-//achurchnearyou.com//eventfeed//EN
CALSCALE:GREGORIAN
METHOD:PUBLISH
X-WR-TIMEZONE:UTC
BEGIN:VEVENT
SUMMARY:Spring fair and table top sale
DTSTART:20260328T100000Z
DTEND:20260328T140000Z
DTSTAMP:20260420T213419Z
UID:11706382026-03-28 10:00:00+00:00achurchnearyou
CATEGORIES:
DESCRIPTION:Craft stalls... Easter gifts... bric-a-brac... tombolas and ra
 ffles... \nCome and browse.. and enjoy a selection of refreshments in St H
 ilda's café\nIt's £10 to book a table in advance: please call 07703 7203
 84
GEO:-2.118301;53.463526
LOCATION:St Hilda's Church\, Audenshaw
URL:https://www.achurchnearyou.com/church/15964/service-and-events/events/
 1170638/
END:VEVENT
END:VCALENDAR
