BEGIN:VCALENDAR
VERSION:2.0
PRODID:-//achurchnearyou.com//eventfeed//EN
CALSCALE:GREGORIAN
METHOD:PUBLISH
X-WR-TIMEZONE:UTC
BEGIN:VEVENT
SUMMARY:Maundy Thursday Eucharist at St Stephen's
DTSTART:20260402T173000Z
DTEND:20260402T183000Z
DTSTAMP:20260420T194656Z
UID:11834352026-04-02 17:30:00+00:00achurchnearyou
CATEGORIES:
DESCRIPTION:We remember Jesus and the apostles as they gathered for the La
 st Supper. The service includes the traditional re-enactment of the Washin
 g of Feet
LOCATION:St Stephen's Church
URL:https://www.achurchnearyou.com/church/15964/service-and-events/events/
 1183435/
END:VEVENT
END:VCALENDAR
